Workbook

Sheet SHIPPING
A1: CODE | B1: DESC | C1: Q'TY | D1: UNIT | E1: SIZE ( EA ) | H1: WEIGHT BY EA | J1: SIZE ( BUNDLE ) | M1: WEIGHT BY BUNDLE | O1: CARGO CBM | P1: PAKAGE | Q1: QUANTITY BUNDLE | R1: CTNR 40HC' | S1: CTNR 20DC' | T1: CTNR 40HC' L*W*H (Cm) | V1: CTNR 40DC' L*W*H (Cm) | X1: CTNR 20DC' L*W*H (Cm) | Z1: REMARK
E2: L (cm) | F2: W (cm) | G2: H (cm) | H2: N.W (kgs) | I2: G.W (kgs) | J2: L (cm) | K2: W (cm) | L2: H (cm) | M2: N.W (kgs) | N2: G.W (kgs) | T2: SIZE | U2: CBM | V2: SIZE | W2: CBM | X2: SIZE | Y2: CBM
A3: 7405V1 | B3: CRABBIE SANDBOX | C3: =SUMIFS('[1]EXPORT SCHEDULE'!$D:$D,'[1]EXPORT SCHEDULE'!$B:$B,SHIPPING!A3) -> 0 | D3: EA | E3: =118 -> 118 | F3: =157/6 -> 26.166667 | G3: =119 -> 119 | H3: 8.008 | I3: 11.084333 | J3: =118 -> 118 | K3: =157 -> 157 | L3: 119 | M3: =8.008*Q3 -> 48.048 | N3: =11.0843333333333*Q3 -> 66.506 | O3: =((E3*F3*G3)/1000000)*C3 -> 0 | P3: =C3/Q3 -> 0 | Q3: 6 | T3: 1200*233*269 | U3: =(LEFT(T3,4))*(MID(T3,6,3))*(RIGHT(T3,3))/1000000 -> 75.2124 | V3: 1200*233*238 | W3: =(LEFT(V3,4))*(MID(V3,6,3))*(RIGHT(V3,3))/1000000 -> 66.5448 | X3: 589*233*238 | Y3: =(LEFT(X3,3))*(MID(X3,5,3))*(RIGHT(X3,3))/1000000 -> 32.662406
A4: 7405V9 | B4: CRABBIE SANDBOX | C4: =SUMIFS('[1]EXPORT SCHEDULE'!$D:$D,'[1]EXPORT SCHEDULE'!$B:$B,SHIPPING!A4) -> 60 | D4: EA | E4: =118 -> 118 | F4: =157/6 -> 26.166667 | G4: =119 -> 119 | H4: 8.008 | I4: 11.084333 | J4: =118 -> 118 | K4: =157 -> 157 | L4: 119 | M4: =8.008*Q4 -> 48.048 | N4: =11.0843333333333*Q4 -> 66.506 | O4: =((E4*F4*G4)/1000000)*C4 -> 22.04594 | P4: =C4/Q4 -> 10 | Q4: 6 | T4: 1200*233*269 | U4: =(LEFT(T4,4))*(MID(T4,6,3))*(RIGHT(T4,3))/1000000 -> 75.2124 | V4: 1200*233*238 | W4: =(LEFT(V4,4))*(MID(V4,6,3))*(RIGHT(V4,3))/1000000 -> 66.5448 | X4: 589*233*238 | Y4: =(LEFT(X4,3))*(MID(X4,5,3))*(RIGHT(X4,3))/1000000 -> 32.662406
A5: 4872V1 | B5: RAIN SHOWER UNICORNS | C5: =SUMIFS('[1]EXPORT SCHEDULE'!$D:$D,'[1]EXPORT SCHEDULE'!$B:$B,SHIPPING!A5) -> 0 | D5: EA | E5: =113/2 -> 56.5 | F5: =102.8/4 -> 25.7 | G5: =189/2 -> 94.5 | H5: 6.25 | I5: 7.558 | J5: =56.5*2 -> 113 | K5: =25.7*4 -> 102.8 | L5: =94.5*2 -> 189 | M5: =8.008*Q5 -> 128.128 | N5: =11.0843333333333*Q5 -> 177.34933 | O5: =((E5*F5*G5)/1000000)*C5 -> 0 | P5: =C5/Q5 -> 0 | Q5: 16 | T5: 1200*233*269 | U5: =(LEFT(T5,4))*(MID(T5,6,3))*(RIGHT(T5,3))/1000000 -> 75.2124 | V5: 1200*233*238 | W5: =(LEFT(V5,4))*(MID(V5,6,3))*(RIGHT(V5,3))/1000000 -> 66.5448 | X5: 589*233*238 | Y5: =(LEFT(X5,3))*(MID(X5,5,3))*(RIGHT(X5,3))/1000000 -> 32.662406
A6: 4872V9 | B6: RAIN SHOWER UNICORNS | C6: =SUMIFS('[1]EXPORT SCHEDULE'!$D:$D,'[1]EXPORT SCHEDULE'!$B:$B,SHIPPING!A6) -> 1455 | D6: EA | E6: =113/2 -> 56.5 | F6: =102.8/4 -> 25.7 | G6: =189/2 -> 94.5 | H6: 6.25 | I6: 7.558 | J6: =56.5*2 -> 113 | K6: =25.7*4 -> 102.8 | L6: =94.5*2 -> 189 | M6: =8.008*Q6 -> 128.128 | N6: =11.0843333333333*Q6 -> 177.34933 | O6: =((E6*F6*G6)/1000000)*C6 -> 199.65324 | P6: =C6/Q6 -> 90.9375 | Q6: 16 | T6: 1200*233*269 | U6: =(LEFT(T6,4))*(MID(T6,6,3))*(RIGHT(T6,3))/1000000 -> 75.2124 | V6: 1200*233*238 | W6: =(LEFT(V6,4))*(MID(V6,6,3))*(RIGHT(V6,3))/1000000 -> 66.5448 | X6: 589*233*238 | Y6: =(LEFT(X6,3))*(MID(X6,5,3))*(RIGHT(X6,3))/1000000 -> 32.662406
A7: 8746V1 | B7: RAIN SHOWER SPLASH POND | C7: =SUMIFS('[1]EXPORT SCHEDULE'!$D:$D,'[1]EXPORT SCHEDULE'!$B:$B,SHIPPING!A7) -> 0 | D7: EA | E7: =113/2 -> 56.5 | F7: =102.8/4 -> 25.7 | G7: =189/2 -> 94.5 | H7: 6.158 | I7: 7.494 | J7: =56.5*2 -> 113 | K7: =25.7*4 -> 102.8 | L7: =94.5*2 -> 189 | M7: =8.008*Q7 -> 128.128 | N7: =11.0843333333333*Q7 -> 177.34933 | O7: =((E7*F7*G7)/1000000)*C7 -> 0 | P7: =C7/Q7 -> 0 | Q7: 16 | T7: 1200*233*269 | U7: =(LEFT(T7,4))*(MID(T7,6,3))*(RIGHT(T7,3))/1000000 -> 75.2124 | V7: 1200*233*238 | W7: =(LEFT(V7,4))*(MID(V7,6,3))*(RIGHT(V7,3))/1000000 -> 66.5448 | X7: 589*233*238 | Y7: =(LEFT(X7,3))*(MID(X7,5,3))*(RIGHT(X7,3))/1000000 -> 32.662406
A8: 8746V9 | B8: RAIN SHOWER SPLASH POND | C8: =SUMIFS('[1]EXPORT SCHEDULE'!$D:$D,'[1]EXPORT SCHEDULE'!$B:$B,SHIPPING!A8) -> 250 | D8: EA | E8: =113/2 -> 56.5 | F8: =102.8/4 -> 25.7 | G8: =189/2 -> 94.5 | H8: 6.158 | I8: 7.494 | J8: =56.5*2 -> 113 | K8: =25.7*4 -> 102.8 | L8: =94.5*2 -> 189 | M8: =8.008*Q8 -> 128.128 | N8: =11.0843333333333*Q8 -> 177.34933 | O8: =((E8*F8*G8)/1000000)*C8 -> 34.304681 | P8: =C8/Q8 -> 15.625 | Q8: 16 | T8: 1200*233*269 | U8: =(LEFT(T8,4))*(MID(T8,6,3))*(RIGHT(T8,3))/1000000 -> 75.2124 | V8: 1200*233*238 | W8: =(LEFT(V8,4))*(MID(V8,6,3))*(RIGHT(V8,3))/1000000 -> 66.5448 | X8: 589*233*238 | Y8: =(LEFT(X8,3))*(MID(X8,5,3))*(RIGHT(X8,3))/1000000 -> 32.662406
A9: 4931V1 | B9: TROPICAL RAINFOREST | C9: =SUMIFS('[1]EXPORT SCHEDULE'!$D:$D,'[1]EXPORT SCHEDULE'!$B:$B,SHIPPING!A9) -> 0 | D9: EA | E9: =113/2 -> 56.5 | F9: =102.8/4 -> 25.7 | G9: =189/2 -> 94.5 | H9: N/A | I9: N/A | J9: =56.5*2 -> 113 | K9: =25.7*4 -> 102.8 | L9: =94.5*2 -> 189 | M9: N/A | N9: N/A | O9: =((E9*F9*G9)/1000000)*C9 -> 0 | P9: =C9/Q9 -> 0 | Q9: 16 | T9: 1200*233*269 | U9: =(LEFT(T9,4))*(MID(T9,6,3))*(RIGHT(T9,3))/1000000 -> 75.2124 | V9: 1200*233*238 | W9: =(LEFT(V9,4))*(MID(V9,6,3))*(RIGHT(V9,3))/1000000 -> 66.5448 | X9: 589*233*238 | Y9: =(LEFT(X9,3))*(MID(X9,5,3))*(RIGHT(X9,3))/1000000 -> 32.662406 | Z9: still not in production
A10: 4931V9 | B10: TROPICAL RAINFOREST | C10: =SUMIFS('[1]EXPORT SCHEDULE'!$D:$D,'[1]EXPORT SCHEDULE'!$B:$B,SHIPPING!A10) -> 0 | D10: EA | E10: =113/2 -> 56.5 | F10: =102.8/4 -> 25.7 | G10: =189/2 -> 94.5 | H10: N/A | I10: N/A | J10: =56.5*2 -> 113 | K10: =25.7*4 -> 102.8 | L10: =94.5*2 -> 189 | M10: N/A | N10: N/A | O10: =((E10*F10*G10)/1000000)*C10 -> 0 | P10: =C10/Q10 -> 0 | Q10: 16 | T10: 1200*233*269 | U10: =(LEFT(T10,4))*(MID(T10,6,3))*(RIGHT(T10,3))/1000000 -> 75.2124 | V10: 1200*233*238 | W10: =(LEFT(V10,4))*(MID(V10,6,3))*(RIGHT(V10,3))/1000000 -> 66.5448 | X10: 589*233*238 | Y10: =(LEFT(X10,3))*(MID(X10,5,3))*(RIGHT(X10,3))/1000000 -> 32.662406
A11: 8666V1 | B11: WHISPER RIDER (PINK) | C11: =SUMIFS('[1]EXPORT SCHEDULE'!$D:$D,'[1]EXPORT SCHEDULE'!$B:$B,SHIPPING!A11) -> 0 | D11: EA | E11: =100/2 -> 50 | F11: =152/4 -> 38 | G11: =177/2 -> 88.5 | H11: 7.516 | I11: 8.74 | J11: =50*2 -> 100 | K11: 152 | L11: =88.5*2 -> 177 | M11: =8.008*Q11 -> 128.128 | N11: =11.0843333333333*Q11 -> 177.34933 | O11: =((E11*F11*G11)/1000000)*C11 -> 0 | P11: =C11/Q11 -> 0 | Q11: 16 | T11: 1200*233*269 | U11: =(LEFT(T11,4))*(MID(T11,6,3))*(RIGHT(T11,3))/1000000 -> 75.2124 | V11: 1200*233*238 | W11: =(LEFT(V11,4))*(MID(V11,6,3))*(RIGHT(V11,3))/1000000 -> 66.5448 | X11: 589*233*238 | Y11: =(LEFT(X11,3))*(MID(X11,5,3))*(RIGHT(X11,3))/1000000 -> 32.662406
A12: 8666V9 | B12: WHISPER RIDER (PINK) | C12: =SUMIFS('[1]EXPORT SCHEDULE'!$D:$D,'[1]EXPORT SCHEDULE'!$B:$B,SHIPPING!A12) -> 30 | D12: EA | E12: =100/2 -> 50 | F12: =152/4 -> 38 | G12: =177/2 -> 88.5 | H12: 7.516 | I12: 8.74 | J12: =50*2 -> 100 | K12: 152 | L12: =88.5*2 -> 177 | M12: =8.008*Q12 -> 128.128 | N12: =11.0843333333333*Q12 -> 177.34933 | O12: =((E12*F12*G12)/1000000)*C12 -> 5.0445 | P12: =C12/Q12 -> 1.875 | Q12: 16 | T12: 1200*233*269 | U12: =(LEFT(T12,4))*(MID(T12,6,3))*(RIGHT(T12,3))/1000000 -> 75.2124 | V12: 1200*233*238 | W12: =(LEFT(V12,4))*(MID(V12,6,3))*(RIGHT(V12,3))/1000000 -> 66.5448 | X12: 589*233*238 | Y12: =(LEFT(X12,3))*(MID(X12,5,3))*(RIGHT(X12,3))/1000000 -> 32.662406
A13: 8669V1 | B13: WHISPER RIDER (BLUE) | C13: =SUMIFS('[1]EXPORT SCHEDULE'!$D:$D,'[1]EXPORT SCHEDULE'!$B:$B,SHIPPING!A13) -> 0 | D13: EA | E13: =100/2 -> 50 | F13: =152/4 -> 38 | G13: =177/2 -> 88.5 | H13: 7.516 | I13: 8.74 | J13: =50*2 -> 100 | K13: 152 | L13: =88.5*2 -> 177 | M13: =8.008*Q13 -> 128.128 | N13: =11.0843333333333*Q13 -> 177.34933 | O13: =((E13*F13*G13)/1000000)*C13 -> 0 | P13: =C13/Q13 -> 0 | Q13: 16 | T13: 1200*233*269 | U13: =(LEFT(T13,4))*(MID(T13,6,3))*(RIGHT(T13,3))/1000000 -> 75.2124 | V13: 1200*233*238 | W13: =(LEFT(V13,4))*(MID(V13,6,3))*(RIGHT(V13,3))/1000000 -> 66.5448 | X13: 589*233*238 | Y13: =(LEFT(X13,3))*(MID(X13,5,3))*(RIGHT(X13,3))/1000000 -> 32.662406
A14: 8669V9 | B14: WHISPER RIDER (BLUE) | C14: =SUMIFS('[1]EXPORT SCHEDULE'!$D:$D,'[1]EXPORT SCHEDULE'!$B:$B,SHIPPING!A14) -> 30 | D14: EA | E14: =100/2 -> 50 | F14: =152/4 -> 38 | G14: =177/2 -> 88.5 | H14: 7.516 | I14: 8.74 | J14: =50*2 -> 100 | K14: 152 | L14: =88.5*2 -> 177 | M14: =8.008*Q14 -> 128.128 | N14: =11.0843333333333*Q14 -> 177.34933 | O14: =((E14*F14*G14)/1000000)*C14 -> 5.0445 | P14: =C14/Q14 -> 1.875 | Q14: 16 | T14: 1200*233*269 | U14: =(LEFT(T14,4))*(MID(T14,6,3))*(RIGHT(T14,3))/1000000 -> 75.2124 | V14: 1200*233*238 | W14: =(LEFT(V14,4))*(MID(V14,6,3))*(RIGHT(V14,3))/1000000 -> 66.5448 | X14: 589*233*238 | Y14: =(LEFT(X14,3))*(MID(X14,5,3))*(RIGHT(X14,3))/1000000 -> 32.662406
