Workbook

Sheet COGS(매출원가+재공품+완성제품)
A2: COSTING SUMMARY
A3: For the month of JUNE 2018
C4: COGS OF GOOD SOLD JUNE '18
C6: 511 | D6: 19607773243 | E6: ='Sales profit (스타일 별 매출이익)'!O5 -> 864612.25 | F6: ='Sales profit (스타일 별 매출이익)'!E5 -> 392031 | G6: pcs
C7: 622 | D7: 6782821106
C8: 627 | D8: 13251858147
C9: TOTAL | D9: =SUM(D7:D8) -> 20034679253
D10: =C14+F14+D9-D21-G21-I19 -> 0
A12: THE AMOUNT | C12: ACC 154 | F12: ACC 155 | I12: ACC 632
B14: Beginning | C14: ='WIP(재공품)'!L7 -> 8125656666 | E14: Beginning | F14: ='In-out-bal products (155)(완성제품)'!F7 -> 6043796522
D15: ='WIP(재공품)'!X7 -> 18291801777 | F15: ='In-out-bal products (155)(완성제품)'!L7 -> 18291801777 | G15: ='In-out-bal products (155)(완성제품)'!X7 -> 15788962803 | I15: =G15 -> 15788962803
C16: =D9 -> 20034679253 | D16: ='WIP(재공품)'!U7 -> 28190139 | F16: ='In-out-bal products (155)(완성제품)'!O7 -> 28190139 | G16: ='In-out-bal products (155)(완성제품)'!AA7 -> 0 | I16: =G16 -> 0
G17: ='In-out-bal products (155)(완성제품)'!AG7 -> 28190139 | I17: =G17 -> 28190139
C19: =C14+C16 -> 28160335919 | D19: =D15+D16 -> 18319991916 | F19: =F14+F15+F16 -> 24363788438 | G19: =G15+G16+G17 -> 15817152942 | I19: =I15+I16+I17 -> 15817152942
B21: Ending | D21: =C19-D19 -> 9840344003 | E21: Ending | G21: =ROUND(F19-G19,0) -> 8546635496
C22: 622 | D22: ='Direct labour(직접노무비)'!AA7 -> 3495335232 | G22: ='In-out-bal products (155)(완성제품)'!AU7 -> 7306633775 | H22: Inventory of Ms Qui
C23: 627 | D23: ='Overhead exp(제조경비)'!AA7 -> 6345008754 | G23: ='In-out-bal products (155)(완성제품)'!AW7 -> 1240001721 | H23: Inventory of Ms Nga
D24: =+D22+D23-D21 -> -17 | G24: =+G21-G22-G23 -> 0
A27: THE QUANTITY | C27: ACC 154 | F27: ACC 155 | I27: ACC 632
B29: Beginning | C29: ='WIP(재공품)'!I7 -> 290539 | E29: Beginning | F29: ='In-out-bal products (155)(완성제품)'!D7 -> 173116
D30: ='WIP(재공품)'!S7 -> 445561 | F30: ='In-out-bal products (155)(완성제품)'!G7+'In-out-bal products (155)(완성제품)'!H7 -> 445561 | G30: ='In-out-bal products (155)(완성제품)'!V7 -> 392031 | I30: =G30 -> 392031
D31: =+'WIP(재공품)'!T7 -> 605 | F31: =D31 -> 605 | G31: ='In-out-bal products (155)(완성제품)'!Y7 -> 0 | I31: =G31 -> 0
C32: ='JUNE (물량흐름)'!H8+'JUNE (물량흐름)'!V8 -> 482727 | G32: ='In-out-bal products (155)(완성제품)'!AE7 -> 605 | I32: =G32 -> 605
C35: =C29+C32+C33 -> 773266 | D35: =D30+D31+D32 -> 446166 | F35: =F29+SUM(F30:F32) -> 619282 | G35: =SUM(G30:G32) -> 392636 | I35: =I30+I31+I32 -> 392636
B37: Ending | D37: =C35-D35 -> 327100 | E37: Ending | G37: =F35-G35 -> 226646
G39: ='In-out-bal products (155)(완성제품)'!AT7 -> 184933 | H39: Inventory of Ms Qui
G40: ='In-out-bal products (155)(완성제품)'!AV7 -> 41713 | H40: Inventory of Ms Nga

Sheet JUNE (물량흐름)
K2: =M8-N8-O8-P8 -> 0 | M2: =+M8-N8-O8-P8 -> 0
L5: =+G8+H8-J8-L8-M8 -> 0
A6: THÁNG 06 /JUNE '18
S7: PACKING | W7: Ecus | AC7: 41713 | AD7: =+AC7-AC8 -> 0
D8: =SUBTOTAL(9,D13:D493) -> 451937 | E8: =SUBTOTAL(9,E13:E493) -> 2172048 | F8: =SUBTOTAL(9,F13:F493) -> 2623985 | G8: =SUBTOTAL(9,G13:G493) -> 290539 | H8: =SUBTOTAL(9,H13:H493) -> 451937 | I8: =SUBTOTAL(9,I13:I493) -> 30790 | J8: =SUBTOTAL(9,J13:J493) -> 415376 | K8: =SUBTOTAL(9,K13:K493) -> 0 | ... AD8: =SUBTOTAL(9,AD13:AD493) -> 226646 | AE8: =SUBTOTAL(9,AE13:AE488) -> 0 | AH8: =SUBTOTAL(9,AH13:AH391) -> 0 | AI8: =SUBTOTAL(9,AI13:AI274) -> 0 | AJ8: =SUBTOTAL(9,AJ13:AJ274) -> 0
A9: STT/ Ref. | B9: Khách hàng/Buyer | C9: Mã hàng/STYLE-ACC | D9: Số cắt trong tháng( Cutting in month) | E9: Số cắt luỹ kế đấu tháng/ Cutting of beginning month | F9: Số cắt luỹ kế cuối tháng/ Cutting of ending month | G9: WIP dư đầu kỳ/ WIP of beginning | H9: WIP tăng trong kỳ/ WIP in month | I9: Nhận bán thành phẩm tu xưởng khác/ Receipt Wip from other factory | J9: WIP giảm trong kỳ/ Output WIP in month | M9: WIP cuối kỳ/ WIP of ending month | N9: Mức độ hoàn thành WIP/ WIP Equivalent | Q9: TP DK QUÝ/ OPENING FINISING | R9: TP DK NGA/ OPENING AT WAREHOUSE | S9: Số đóng gói luỹ kế/ Packing | T9: TP tăng trong kỳ/ FG in month - packing | U9: TP chuyển kho nga/ FG in month - WAREHOUSE | V9: Nhân Điều chuyển TP từ xưởng khác/ receipt FG from other factory | W9: Xuất TP/ Output FG | AA9: Tổng kết chuyển TP/ Total Transfer into FG | AB9: FG cuối kỳ trong Kho TP PX/ FG ending INVENTORY OF QUY | AC9: FG cuối kỳ trong Kho TP PX chưa Xk/ FG ending at Warehouse have not export | AD9: Tổng Tp cuối kỳ kho PX/Sum FG ending at Warehouse | AE9: Tp cuối kỳ warehouse/ Sum FG ending at Warehouse
J11: TP tăng trong kỳ/ FG in month | K11: Chuyển bán thành phẩm sang xưởng khác/Transfer WIP to other | L11: Hàng phế (Chuyền May)/ Damages | N11: Cắt/Cut (20%) | O11: May/Made (50%) | P11: Ủi/Ironed (80%) | W11: Xuất xưởng (Đã xuất khẩu)/ Export | X11: Xuất xưởng (Đã xuất khẩu)/ warehouse | Y11: Hàng phế (sample) | Z11: Xuất xưởng (Chưa xuất khẩu)/ Output warehouse but have not export
B12: 2 | C12: 3 | D12: 4 | E12: 5 | F12: 6 | G12: 7 | H12: 8 | I12: 9 | J12: 10 | K12: 11 | L12: 12 | M12: 13 | N12: 14 | O12: 15 | P12: 16 | Q12: 17 | R12: 25 | S12: 18 | T12: 19 | V12: 20 | W12: 21 | X12: 22 | Y12: 23 | Z12: 24 | AA12: 26 | AB12: 27 | AC12: 28 | AD12: 29 | AE12: 35 | AR12: =SUBTOTAL(9,AR13:AR488) -> 0
A13: 1 | B13: =IFERROR(VLOOKUP(A13,O.B.JUNE!$A$7:$C$448,2,0),0) -> ALFANI | C13: =IFERROR(VLOOKUP(A13,O.B.JUNE!$A$7:$C$448,3,0),0) -> 69717 | D13: =F13-E13 -> 0 | E13: =IFERROR(VLOOKUP(C13,O.B.JUNE!$C$7:$D$448,2,0),0) -> 12331 | F13: =VLOOKUP(C13,'CUTTING ON JUNE'!$A$4:$D$316,3,0) -> 12331 | G13: =IFERROR(VLOOKUP(C13,O.B.JUNE!$C$7:$E$448,3,0),0) -> 3455 | H13: =IF(F13="","",F13-E13) -> 0 | J13: =IF(S13="",0,S13-Q13-V13-R13) -> 2500 | K13: 0 | L13: 0 | M13: =ROUND(IF(ISERROR(F13-S13-K13-L13-R13),0,(F13-S13-K13-L13+Q13+R13+G13-E13)),0) -> 955 | N13: 0 | O13: 224 | P13: =+M13-N13-O13 -> 731 | Q13: =IFERROR(VLOOKUP(C13,O.B.JUNE!$C$7:$K$448,7,0),0) -> 1878 | R13: =IFERROR(VLOOKUP(C13,O.B.JUNE!$C$7:$J$448,8,0),0) -> 0 | S13: =Q13+T13+U13+R13 -> 4378 | T13: 2500 | W13: 2370 | Y13: 0 | Z13: 0 | AA13: =V13+U13+T13 -> 2500 | AB13: =ROUND(Q13+T13+V13-W13-Y13-Z13,0) -> 2008 | AC13: =+R13+U13+Z13-X13 -> 0 | AD13: =AB13+AC13 -> 2008 | AH13: =G13+H13-J13-L13-M13 -> 0 | AI13: =Q13+T13+U13-S13+R13 -> 0 | AJ13: =M13-N13-O13-P13 -> 0 | AK13: =M13-N13-O13-P13 -> 0 | AN13: 0
A14: 2 | B14: =IFERROR(VLOOKUP(A14,O.B.JUNE!$A$7:$C$448,2,0),0) -> ALFANI | C14: =IFERROR(VLOOKUP(A14,O.B.JUNE!$A$7:$C$448,3,0),0) -> 73738 | D14: =F14-E14 -> 0 | E14: =IFERROR(VLOOKUP(C14,O.B.JUNE!$C$7:$D$448,2,0),0) -> 0 | F14: 0 | G14: =IFERROR(VLOOKUP(C14,O.B.JUNE!$C$7:$E$448,3,0),0) -> 473 | H14: =IF(F14="","",F14-E14) -> 0 | J14: =IF(S14="",0,S14-Q14-V14-R14) -> 473 | K14: 0 | L14: 0 | M14: =ROUND(IF(ISERROR(F14-S14-K14-L14-R14),0,(F14-S14-K14-L14+Q14+R14+G14-E14)),0) -> 0 | N14: 0 | O14: 0 | P14: =+M14-N14-O14 -> 0 | Q14: =IFERROR(VLOOKUP(C14,O.B.JUNE!$C$7:$K$448,7,0),0) -> 0 | R14: =IFERROR(VLOOKUP(C14,O.B.JUNE!$C$7:$J$448,8,0),0) -> 0 | S14: =Q14+T14+U14+R14 -> 473 | T14: 0 | U14: 473 | W14: 0 | Y14: 0 | Z14: 0 | AA14: =V14+U14+T14 -> 473 | AB14: =ROUND(Q14+T14+V14-X14-W14-Y14-Z14,0) -> 0 | AC14: =+R14+U14+Z14-X14 -> 473 | AD14: =AB14+AC14 -> 473 | AH14: =G14+H14-J14-L14-M14 -> 0 | AI14: =Q14+T14+U14-S14+R14 -> 0 | AJ14: =M14-N14-O14-P14 -> 0 | AK14: =M14-N14-O14-P14 -> 0 | AS14: ĐÃ HẾT SẢN XUẤT
A15: 3 | B15: =IFERROR(VLOOKUP(A15,O.B.JUNE!$A$7:$C$448,2,0),0) -> ALFANI | C15: =IFERROR(VLOOKUP(A15,O.B.JUNE!$A$7:$C$448,3,0),0) -> 73746 | D15: =F15-E15 -> 0 | E15: =IFERROR(VLOOKUP(C15,O.B.JUNE!$C$7:$D$448,2,0),0) -> 0 | F15: 0 | G15: =IFERROR(VLOOKUP(C15,O.B.JUNE!$C$7:$E$448,3,0),0) -> 0 | H15: =IF(F15="","",F15-E15) -> 0 | J15: =IF(S15="",0,S15-Q15-V15-R15) -> 0 | K15: 0 | L15: 0 | M15: =ROUND(IF(ISERROR(F15-S15-K15-L15-R15),0,(F15-S15-K15-L15+Q15+R15+G15-E15)),0) -> 0 | N15: 0 | O15: 0 | P15: 0 | Q15: =IFERROR(VLOOKUP(C15,O.B.JUNE!$C$7:$K$448,7,0),0) -> 0 | R15: =IFERROR(VLOOKUP(C15,O.B.JUNE!$C$7:$J$448,8,0),0) -> 11 | S15: =Q15+T15+U15+R15 -> 11 | T15: 0 | W15: 0 | Y15: 0 | Z15: 0 | AA15: =V15+U15+T15 -> 0 | AB15: =ROUND(Q15+T15+V15-X15-W15-Y15-Z15,0) -> 0 | AC15: =+R15+U15+Z15-X15 -> 11 | AD15: =AB15+AC15 -> 11 | AH15: =G15+H15-J15-L15-M15 -> 0 | AI15: =Q15+T15+U15-S15+R15 -> 0 | AJ15: =M15-N15-O15-P15 -> 0 | AK15: =M15-N15-O15-P15 -> 0
A16: 4 | B16: =IFERROR(VLOOKUP(A16,O.B.JUNE!$A$7:$C$448,2,0),0) -> ALFANI | C16: =IFERROR(VLOOKUP(A16,O.B.JUNE!$A$7:$C$448,3,0),0) -> 74211 | D16: =F16-E16 -> 0 | E16: =IFERROR(VLOOKUP(C16,O.B.JUNE!$C$7:$D$448,2,0),0) -> 3960 | F16: =VLOOKUP(C16,'CUTTING ON JUNE'!$A$4:$D$316,3,0) -> 3960 | G16: =IFERROR(VLOOKUP(C16,O.B.JUNE!$C$7:$E$448,3,0),0) -> 37 | H16: =IF(F16="","",F16-E16) -> 0 | J16: =IF(S16="",0,S16-Q16-V16-R16) -> 37 | K16: 0 | L16: 0 | M16: =ROUND(IF(ISERROR(F16-S16-K16-L16-R16),0,(F16-S16-K16-L16+Q16+R16+G16-E16)),0) -> 0 | N16: 0 | O16: 0 | P16: =+M16-N16-O16 -> 0 | Q16: =IFERROR(VLOOKUP(C16,O.B.JUNE!$C$7:$K$448,7,0),0) -> 0 | R16: =IFERROR(VLOOKUP(C16,O.B.JUNE!$C$7:$J$448,8,0),0) -> 0 | S16: =Q16+T16+U16+R16 -> 37 | T16: 0 | U16: 37 | W16: 0 | Y16: 0 | Z16: 0 | AA16: =V16+U16+T16 -> 37 | AB16: =ROUND(Q16+T16+V16-X16-W16-Y16-Z16,0) -> 0 | AC16: =+R16+U16+Z16-X16 -> 37 | AD16: =AB16+AC16 -> 37 | AH16: =G16+H16-J16-L16-M16 -> 0 | AI16: =Q16+T16+U16-S16+R16 -> 0 | AJ16: =M16-N16-O16-P16 -> 0 | AK16: =M16-N16-O16-P16 -> 0 | AS16: ĐÃ HẾT SẢN XUẤT
A17: 5 | B17: =IFERROR(VLOOKUP(A17,O.B.JUNE!$A$7:$C$448,2,0),0) -> ALFANI | C17: =IFERROR(VLOOKUP(A17,O.B.JUNE!$A$7:$C$448,3,0),0) -> 2072 | D17: =F17-E17 -> 17463 | E17: =IFERROR(VLOOKUP(C17,O.B.JUNE!$C$7:$D$448,2,0),0) -> 142225 | F17: =VLOOKUP(C17,'CUTTING ON JUNE'!$A$4:$D$316,3,0) -> 159688 | G17: =IFERROR(VLOOKUP(C17,O.B.JUNE!$C$7:$E$448,3,0),0) -> 10378 | H17: =IF(F17="","",F17-E17) -> 17463 | J17: =IF(S17="",0,S17-Q17-V17-R17) -> 15677 | K17: 0 | L17: 0 | M17: =ROUND(IF(ISERROR(F17-S17-K17-L17-R17),0,(F17-S17-K17-L17+Q17+R17+G17-E17)),0) -> 12164 | N17: 50 | O17: 595 | P17: =+M17-N17-O17 -> 11519 | Q17: =IFERROR(VLOOKUP(C17,O.B.JUNE!$C$7:$K$448,7,0),0) -> 0 | R17: =IFERROR(VLOOKUP(C17,O.B.JUNE!$C$7:$J$448,8,0),0) -> 142 | S17: =Q17+T17+U17+R17 -> 15819 | T17: 15677 | W17: 11304 | Y17: 0 | Z17: 0 | AA17: =V17+U17+T17 -> 15677 | AB17: =ROUND(Q17+T17+V17-X17-W17-Y17-Z17,0) -> 4373 | AC17: =+R17+U17+Z17-X17 -> 142 | AD17: =AB17+AC17 -> 4515 | AH17: =G17+H17-J17-L17-M17 -> 0 | AI17: =Q17+T17+U17-S17+R17 -> 0 | AJ17: =M17-N17-O17-P17 -> 0 | AK17: =M17-N17-O17-P17 -> 0
A18: 6 | B18: =IFERROR(VLOOKUP(A18,O.B.JUNE!$A$7:$C$448,2,0),0) -> J JILL | C18: =IFERROR(VLOOKUP(A18,O.B.JUNE!$A$7:$C$448,3,0),0) -> KPT001611 | D18: =F18-E18 -> 0 | E18: =IFERROR(VLOOKUP(C18,O.B.JUNE!$C$7:$D$448,2,0),0) -> 89849 | F18: =VLOOKUP(C18,'CUTTING ON JUNE'!$A$4:$D$316,3,0) -> 89849 | G18: =IFERROR(VLOOKUP(C18,O.B.JUNE!$C$7:$E$448,3,0),0) -> 16696 | H18: =IF(F18="","",F18-E18) -> 0 | J18: =IF(S18="",0,S18-Q18-V18-R18) -> 0 | K18: 0 | L18: 0 | M18: =ROUND(IF(ISERROR(F18-S18-K18-L18-R18),0,(F18-S18-K18-L18+Q18+R18+G18-E18)),0) -> 16696 | N18: 79 | O18: 129 | P18: =+M18-N18-O18 -> 16488 | Q18: =IFERROR(VLOOKUP(C18,O.B.JUNE!$C$7:$K$448,7,0),0) -> 0 | R18: =IFERROR(VLOOKUP(C18,O.B.JUNE!$C$7:$J$448,8,0),0) -> 0 | S18: =Q18+T18+U18+R18 -> 0 | T18: 0 | W18: 0 | Y18: 0 | Z18: 0 | AA18: =V18+U18+T18 -> 0 | AB18: =ROUND(Q18+T18+V18-X18-W18-Y18-Z18,0) -> 0 | AC18: =+R18+U18+Z18-X18 -> 0 | AD18: =AB18+AC18 -> 0 | AH18: =G18+H18-J18-L18-M18 -> 0 | AI18: =Q18+T18+U18-S18+R18 -> 0 | AJ18: =M18-N18-O18-P18 -> 0 | AK18: =M18-N18-O18-P18 -> 0 | AR18: =VLOOKUP(C18,'[1]DA HET SAN XUAT'!$D$8:$AJ$419,33,0) -> 0
A19: 7 | B19: =IFERROR(VLOOKUP(A19,O.B.JUNE!$A$7:$C$448,2,0),0) -> J JILL | C19: =IFERROR(VLOOKUP(A19,O.B.JUNE!$A$7:$C$448,3,0),0) -> KPT101081 | D19: =F19-E19 -> 4453 | E19: =IFERROR(VLOOKUP(C19,O.B.JUNE!$C$7:$D$448,2,0),0) -> 45884 | F19: =VLOOKUP(C19,'CUTTING ON JUNE'!$A$4:$D$316,3,0) -> 50337 | G19: =IFERROR(VLOOKUP(C19,O.B.JUNE!$C$7:$E$448,3,0),0) -> 2660 | H19: =IF(F19="","",F19-E19) -> 4453 | J19: =IF(S19="",0,S19-Q19-V19-R19) -> 4292 | K19: 0 | L19: 0 | M19: =ROUND(IF(ISERROR(F19-S19-K19-L19-R19),0,(F19-S19-K19-L19+Q19+R19+G19-E19)),0) -> 2821 | N19: 234 | O19: 362 | P19: =+M19-N19-O19 -> 2225 | Q19: =IFERROR(VLOOKUP(C19,O.B.JUNE!$C$7:$K$448,7,0),0) -> 5304 | R19: =IFERROR(VLOOKUP(C19,O.B.JUNE!$C$7:$J$448,8,0),0) -> 58 | S19: =Q19+T19+U19+R19 -> 9654 | T19: 4292 | W19: 5407 | Y19: 0 | Z19: 35 | AA19: =V19+U19+T19 -> 4292 | AB19: =ROUND(Q19+T19+V19-X19-W19-Y19-Z19,0) -> 4154 | AC19: =+R19+U19+Z19-X19 -> 93 | AD19: =AB19+AC19 -> 4247 | AH19: =G19+H19-J19-L19-M19 -> 0 | AI19: =Q19+T19+U19-S19+R19 -> 0 | AJ19: =M19-N19-O19-P19 -> 0 | AK19: =M19-N19-O19-P19 -> 0
A20: 8 | B20: =IFERROR(VLOOKUP(A20,O.B.JUNE!$A$7:$C$448,2,0),0) -> ALFANI | C20: =IFERROR(VLOOKUP(A20,O.B.JUNE!$A$7:$C$448,3,0),0) -> 7285 | D20: =F20-E20 -> 0 | E20: =IFERROR(VLOOKUP(C20,O.B.JUNE!$C$7:$D$448,2,0),0) -> 0 | F20: 0 | G20: =IFERROR(VLOOKUP(C20,O.B.JUNE!$C$7:$E$448,3,0),0) -> 32 | H20: =IF(F20="","",F20-E20) -> 0 | J20: =IF(S20="",0,S20-Q20-V20-R20) -> 32 | K20: 0 | L20: 0 | M20: =ROUND(IF(ISERROR(F20-S20-K20-L20-R20),0,(F20-S20-K20-L20+Q20+R20+G20-E20)),0) -> 0 | N20: 0 | O20: 0 | P20: =+M20-N20-O20 -> 0 | Q20: =IFERROR(VLOOKUP(C20,O.B.JUNE!$C$7:$K$448,7,0),0) -> 0 | R20: =IFERROR(VLOOKUP(C20,O.B.JUNE!$C$7:$J$448,8,0),0) -> 0 | S20: =Q20+T20+U20+R20 -> 32 | T20: 0 | U20: 32 | W20: 0 | Y20: 0 | Z20: 0 | AA20: =V20+U20+T20 -> 32 | AB20: =ROUND(Q20+T20+V20-X20-W20-Y20-Z20,0) -> 0 | AC20: =+R20+U20+Z20-X20 -> 32 | AD20: =AB20+AC20 -> 32 | AH20: =G20+H20-J20-L20-M20 -> 0 | AI20: =Q20+T20+U20-S20+R20 -> 0 | AJ20: =M20-N20-O20-P20 -> 0 | AK20: =M20-N20-O20-P20 -> 0 | AS20: ĐÃ HẾT SẢN XUẤT
A21: 9 | B21: =IFERROR(VLOOKUP(A21,O.B.JUNE!$A$7:$C$448,2,0),0) -> ALFANI | C21: =IFERROR(VLOOKUP(A21,O.B.JUNE!$A$7:$C$448,3,0),0) -> 100004407 | D21: =F21-E21 -> 0 | E21: =IFERROR(VLOOKUP(C21,O.B.JUNE!$C$7:$D$448,2,0),0) -> 14942 | F21: =VLOOKUP(C21,'CUTTING ON JUNE'!$A$4:$D$316,3,0) -> 14942 | G21: =IFERROR(VLOOKUP(C21,O.B.JUNE!$C$7:$E$448,3,0),0) -> 305 | H21: =IF(F21="","",F21-E21) -> 0 | J21: =IF(S21="",0,S21-Q21-V21-R21) -> 0 | K21: 0 | L21: 0 | M21: =ROUND(IF(ISERROR(F21-S21-K21-L21-R21),0,(F21-S21-K21-L21+Q21+R21+G21-E21)),0) -> 305 | N21: 0 | O21: 116 | P21: =+M21-N21-O21 -> 189 | Q21: =IFERROR(VLOOKUP(C21,O.B.JUNE!$C$7:$K$448,7,0),0) -> 0 | R21: =IFERROR(VLOOKUP(C21,O.B.JUNE!$C$7:$J$448,8,0),0) -> 0 | S21: =Q21+T21+U21+R21 -> 0 | T21: 0 | W21: 0 | Y21: 0 | Z21: 0 | AA21: =V21+U21+T21 -> 0 | AB21: =ROUND(Q21+T21+V21-X21-W21-Y21-Z21,0) -> 0 | AC21: =+R21+U21+Z21-X21 -> 0 | AD21: =AB21+AC21 -> 0 | AH21: =G21+H21-J21-L21-M21 -> 0 | AI21: =Q21+T21+U21-S21+R21 -> 0 | AJ21: =M21-N21-O21-P21 -> 0 | AK21: =M21-N21-O21-P21 -> 0 | AS21: ĐÃ HẾT SẢN XUẤT
A22: 10 | B22: =IFERROR(VLOOKUP(A22,O.B.JUNE!$A$7:$C$448,2,0),0) -> ANN TAYLOR | C22: =IFERROR(VLOOKUP(A22,O.B.JUNE!$A$7:$C$448,3,0),0) -> 446749 | D22: =F22-E22 -> 0 | E22: =IFERROR(VLOOKUP(C22,O.B.JUNE!$C$7:$D$448,2,0),0) -> 0 | F22: 0 | G22: =IFERROR(VLOOKUP(C22,O.B.JUNE!$C$7:$E$448,3,0),0) -> 165 | H22: =IF(F22="","",F22-E22) -> 0 | J22: =IF(S22="",0,S22-Q22-V22-R22) -> 165 | K22: 0 | L22: 0 | M22: =ROUND(IF(ISERROR(F22-S22-K22-L22-R22),0,(F22-S22-K22-L22+Q22+R22+G22-E22)),0) -> 0 | N22: 0 | O22: 0 | P22: =+M22-N22-O22 -> 0 | Q22: =IFERROR(VLOOKUP(C22,O.B.JUNE!$C$7:$K$448,7,0),0) -> 0 | R22: =IFERROR(VLOOKUP(C22,O.B.JUNE!$C$7:$J$448,8,0),0) -> 0 | S22: =Q22+T22+U22+R22 -> 165 | T22: 0 | U22: 165 | W22: 0 | Y22: 0 | Z22: 0 | AA22: =V22+U22+T22 -> 165 | AB22: =ROUND(Q22+T22+V22-X22-W22-Y22-Z22,0) -> 0 | AC22: =+R22+U22+Z22-X22 -> 165 | AD22: =AB22+AC22 -> 165 | AH22: =G22+H22-J22-L22-M22 -> 0 | AI22: =Q22+T22+U22-S22+R22 -> 0 | AJ22: =M22-N22-O22-P22 -> 0 | AK22: =M22-N22-O22-P22 -> 0 | AS22: ĐÃ HẾT SẢN XUẤT
A23: 11 | B23: =IFERROR(VLOOKUP(A23,O.B.JUNE!$A$7:$C$448,2,0),0) -> ANN TAYLOR | C23: =IFERROR(VLOOKUP(A23,O.B.JUNE!$A$7:$C$448,3,0),0) -> 446053 | D23: =F23-E23 -> 0 | E23: =IFERROR(VLOOKUP(C23,O.B.JUNE!$C$7:$D$448,2,0),0) -> 0 | F23: 0 | G23: =IFERROR(VLOOKUP(C23,O.B.JUNE!$C$7:$E$448,3,0),0) -> 63 | H23: =IF(F23="","",F23-E23) -> 0 | J23: =IF(S23="",0,S23-Q23-V23-R23) -> 63 | K23: 0 | L23: 0 | M23: =ROUND(IF(ISERROR(F23-S23-K23-L23-R23),0,(F23-S23-K23-L23+Q23+R23+G23-E23)),0) -> 0 | N23: 0 | O23: 0 | P23: =+M23-N23-O23 -> 0 | Q23: =IFERROR(VLOOKUP(C23,O.B.JUNE!$C$7:$K$448,7,0),0) -> 0 | R23: =IFERROR(VLOOKUP(C23,O.B.JUNE!$C$7:$J$448,8,0),0) -> 0 | S23: =Q23+T23+U23+R23 -> 63 | T23: 0 | U23: 63 | W23: 0 | Y23: 0 | Z23: 0 | AA23: =V23+U23+T23 -> 63 | AB23: =ROUND(Q23+T23+V23-X23-W23-Y23-Z23,0) -> 0 | AC23: =+R23+U23+Z23-X23 -> 63 | AD23: =AB23+AC23 -> 63 | AH23: =G23+H23-J23-L23-M23 -> 0 | AI23: =Q23+T23+U23-S23+R23 -> 0 | AJ23: =M23-N23-O23-P23 -> 0 | AK23: =M23-N23-O23-P23 -> 0 | AS23: ĐÃ HẾT SẢN XUẤT
A24: 12 | B24: =IFERROR(VLOOKUP(A24,O.B.JUNE!$A$7:$C$448,2,0),0) -> ALFANI | C24: =IFERROR(VLOOKUP(A24,O.B.JUNE!$A$7:$C$448,3,0),0) -> 100004405 | D24: =F24-E24 -> 0 | E24: =IFERROR(VLOOKUP(C24,O.B.JUNE!$C$7:$D$448,2,0),0) -> 0 | F24: 0 | G24: =IFERROR(VLOOKUP(C24,O.B.JUNE!$C$7:$E$448,3,0),0) -> 79 | H24: =IF(F24="","",F24-E24) -> 0 | J24: =IF(S24="",0,S24-Q24-V24-R24) -> 79 | K24: 0 | L24: 0 | M24: =ROUND(IF(ISERROR(F24-S24-K24-L24-R24),0,(F24-S24-K24-L24+Q24+R24+G24-E24)),0) -> 0 | N24: 0 | O24: 0 | P24: =+M24-N24-O24 -> 0 | Q24: =IFERROR(VLOOKUP(C24,O.B.JUNE!$C$7:$K$448,7,0),0) -> 0 | R24: =IFERROR(VLOOKUP(C24,O.B.JUNE!$C$7:$J$448,8,0),0) -> 0 | S24: =Q24+T24+U24+R24 -> 79 | T24: 0 | U24: 79 | W24: 0 | Y24: 0 | Z24: 0 | AA24: =V24+U24+T24 -> 79 | AB24: =ROUND(Q24+T24+V24-X24-W24-Y24-Z24,0) -> 0 | AC24: =+R24+U24+Z24-X24 -> 79 | AD24: =AB24+AC24 -> 79 | AH24: =G24+H24-J24-L24-M24 -> 0 | AI24: =Q24+T24+U24-S24+R24 -> 0 | AJ24: =M24-N24-O24-P24 -> 0 | AK24: =M24-N24-O24-P24 -> 0 | AS24: ĐÃ HẾT SẢN XUẤT
A25: 13 | B25: =IFERROR(VLOOKUP(A25,O.B.JUNE!$A$7:$C$448,2,0),0) -> ALFANI | C25: =IFERROR(VLOOKUP(A25,O.B.JUNE!$A$7:$C$448,3,0),0) -> 100003246 | D25: =F25-E25 -> 0 | E25: =IFERROR(VLOOKUP(C25,O.B.JUNE!$C$7:$D$448,2,0),0) -> 0 | F25: 0 | G25: =IFERROR(VLOOKUP(C25,O.B.JUNE!$C$7:$E$448,3,0),0) -> 377 | H25: =IF(F25="","",F25-E25) -> 0 | J25: =IF(S25="",0,S25-Q25-V25-R25) -> 377 | K25: 0 | L25: 0 | M25: =ROUND(IF(ISERROR(F25-S25-K25-L25-R25),0,(F25-S25-K25-L25+Q25+R25+G25-E25)),0) -> 0 | N25: 0 | O25: 0 | P25: =+M25-N25-O25 -> 0 | Q25: =IFERROR(VLOOKUP(C25,O.B.JUNE!$C$7:$K$448,7,0),0) -> 0 | R25: =IFERROR(VLOOKUP(C25,O.B.JUNE!$C$7:$J$448,8,0),0) -> 0 | S25: =Q25+T25+U25+R25 -> 377 | T25: 0 | U25: 377 | W25: 0 | Y25: 0 | Z25: 0 | AA25: =V25+U25+T25 -> 377 | AB25: =ROUND(Q25+T25+V25-X25-W25-Y25-Z25,0) -> 0 | AC25: =+R25+U25+Z25-X25 -> 377 | AD25: =AB25+AC25 -> 377 | AH25: =G25+H25-J25-L25-M25 -> 0 | AI25: =Q25+T25+U25-S25+R25 -> 0 | AJ25: =M25-N25-O25-P25 -> 0 | AK25: =M25-N25-O25-P25 -> 0 | AS25: ĐÃ HẾT SẢN XUẤT
A26: 14 | B26: =IFERROR(VLOOKUP(A26,O.B.JUNE!$A$7:$C$448,2,0),0) -> ALFANI | C26: =IFERROR(VLOOKUP(A26,O.B.JUNE!$A$7:$C$448,3,0),0) -> 100001802 | D26: =F26-E26 -> 0 | E26: =IFERROR(VLOOKUP(C26,O.B.JUNE!$C$7:$D$448,2,0),0) -> 0 | F26: 0 | G26: =IFERROR(VLOOKUP(C26,O.B.JUNE!$C$7:$E$448,3,0),0) -> 103 | H26: =IF(F26="","",F26-E26) -> 0 | J26: =IF(S26="",0,S26-Q26-V26-R26) -> 0 | K26: 0 | L26: 0 | M26: =ROUND(IF(ISERROR(F26-S26-K26-L26-R26),0,(F26-S26-K26-L26+Q26+R26+G26-E26)),0) -> 103 | N26: 0 | O26: 0 | P26: =+M26-N26-O26 -> 103 | Q26: =IFERROR(VLOOKUP(C26,O.B.JUNE!$C$7:$K$448,7,0),0) -> 0 | R26: =IFERROR(VLOOKUP(C26,O.B.JUNE!$C$7:$J$448,8,0),0) -> 0 | S26: =Q26+T26+U26+R26 -> 0 | T26: 0 | W26: 0 | Y26: 0 | Z26: 0 | AA26: =V26+U26+T26 -> 0 | AB26: =ROUND(Q26+T26+V26-X26-W26-Y26-Z26,0) -> 0 | AC26: =+R26+U26+Z26-X26 -> 0 | AD26: =AB26+AC26 -> 0 | AH26: =G26+H26-J26-L26-M26 -> 0 | AI26: =Q26+T26+U26-S26+R26 -> 0 | AJ26: =M26-N26-O26-P26 -> 0 | AK26: =M26-N26-O26-P26 -> 0
A27: 15 | B27: =IFERROR(VLOOKUP(A27,O.B.JUNE!$A$7:$C$448,2,0),0) -> ALFANI | C27: =IFERROR(VLOOKUP(A27,O.B.JUNE!$A$7:$C$448,3,0),0) -> 68416 | D27: =F27-E27 -> 32 | E27: =IFERROR(VLOOKUP(C27,O.B.JUNE!$C$7:$D$448,2,0),0) -> 2385 | F27: =VLOOKUP(C27,'CUTTING ON JUNE'!$A$4:$D$316,3,0) -> 2417 | G27: =IFERROR(VLOOKUP(C27,O.B.JUNE!$C$7:$E$448,3,0),0) -> 872 | H27: =IF(F27="","",F27-E27) -> 32 | J27: =IF(S27="",0,S27-Q27-V27-R27) -> 688 | K27: 0 | L27: 0 | M27: =ROUND(IF(ISERROR(F27-S27-K27-L27-R27),0,(F27-S27-K27-L27+Q27+R27+G27-E27)),0) -> 216 | N27: 0 | O27: 27 | P27: =+M27-N27-O27 -> 189 | Q27: =IFERROR(VLOOKUP(C27,O.B.JUNE!$C$7:$K$448,7,0),0) -> 197 | R27: =IFERROR(VLOOKUP(C27,O.B.JUNE!$C$7:$J$448,8,0),0) -> 0 | S27: =Q27+T27+U27+R27 -> 885 | T27: 688 | W27: 864 | Y27: 5 | Z27: 16 | AA27: =V27+U27+T27 -> 688 | AB27: =ROUND(Q27+T27+V27-X27-W27-Y27-Z27,0) -> 0 | AC27: =+R27+U27+Z27-X27 -> 16 | AD27: =AB27+AC27 -> 16 | AH27: =G27+H27-J27-L27-M27 -> 0 | AI27: =Q27+T27+U27-S27+R27 -> 0 | AJ27: =M27-N27-O27-P27 -> 0 | AK27: =M27-N27-O27-P27 -> 0
A28: 16 | B28: =IFERROR(VLOOKUP(A28,O.B.JUNE!$A$7:$C$448,2,0),0) -> ALFANI | C28: =IFERROR(VLOOKUP(A28,O.B.JUNE!$A$7:$C$448,3,0),0) -> 7X408 | D28: =F28-E28 -> 0 | E28: =IFERROR(VLOOKUP(C28,O.B.JUNE!$C$7:$D$448,2,0),0) -> 0 | F28: 0 | G28: =IFERROR(VLOOKUP(C28,O.B.JUNE!$C$7:$E$448,3,0),0) -> 108 | H28: =IF(F28="","",F28-E28) -> 0 | J28: =IF(S28="",0,S28-Q28-V28-R28) -> 108 | K28: 0 | L28: 0 | M28: =ROUND(IF(ISERROR(F28-S28-K28-L28-R28),0,(F28-S28-K28-L28+Q28+R28+G28-E28)),0) -> 0 | N28: 0 | O28: 0 | P28: =+M28-N28-O28 -> 0 | Q28: =IFERROR(VLOOKUP(C28,O.B.JUNE!$C$7:$K$448,7,0),0) -> 0 | R28: =IFERROR(VLOOKUP(C28,O.B.JUNE!$C$7:$J$448,8,0),0) -> 0 | S28: =Q28+T28+U28+R28 -> 108 | T28: 0 | U28: 108 | W28: 0 | Y28: 0 | Z28: 0 | AA28: =V28+U28+T28 -> 108 | AB28: =ROUND(Q28+T28+V28-X28-W28-Y28-Z28,0) -> 0 | AC28: =+R28+U28+Z28-X28 -> 108 | AD28: =AB28+AC28 -> 108 | AH28: =G28+H28-J28-L28-M28 -> 0 | AI28: =Q28+T28+U28-S28+R28 -> 0 | AJ28: =M28-N28-O28-P28 -> 0 | AK28: =M28-N28-O28-P28 -> 0 | AS28: ĐÃ HẾT SẢN XUẤT
A29: 17 | B29: =IFERROR(VLOOKUP(A29,O.B.JUNE!$A$7:$C$448,2,0),0) -> ALFANI | C29: =IFERROR(VLOOKUP(A29,O.B.JUNE!$A$7:$C$448,3,0),0) -> 7X708 | D29: =F29-E29 -> 0 | E29: =IFERROR(VLOOKUP(C29,O.B.JUNE!$C$7:$D$448,2,0),0) -> 7574 | F29: =VLOOKUP(C29,'CUTTING ON JUNE'!$A$4:$D$316,3,0) -> 7574 | G29: =IFERROR(VLOOKUP(C29,O.B.JUNE!$C$7:$E$448,3,0),0) -> 187 | H29: =IF(F29="","",F29-E29) -> 0 | J29: =IF(S29="",0,S29-Q29-V29-R29) -> 187 | K29: 0 | L29: 0 | M29: =ROUND(IF(ISERROR(F29-S29-K29-L29-R29),0,(F29-S29-K29-L29+Q29+R29+G29-E29)),0) -> 0 | N29: 0 | O29: 0 | P29: =+M29-N29-O29 -> 0 | Q29: =IFERROR(VLOOKUP(C29,O.B.JUNE!$C$7:$K$448,7,0),0) -> 0 | R29: =IFERROR(VLOOKUP(C29,O.B.JUNE!$C$7:$J$448,8,0),0) -> 0 | S29: =Q29+T29+U29+R29 -> 187 | T29: 0 | U29: 187 | W29: 0 | Y29: 0 | Z29: 0 | AA29: =V29+U29+T29 -> 187 | AB29: =ROUND(Q29+T29+V29-X29-W29-Y29-Z29,0) -> 0 | AC29: =+R29+U29+Z29-X29 -> 187 | AD29: =AB29+AC29 -> 187 | AH29: =G29+H29-J29-L29-M29 -> 0 | AI29: =Q29+T29+U29-S29+R29 -> 0 | AJ29: =M29-N29-O29-P29 -> 0 | AK29: =M29-N29-O29-P29 -> 0 | AS29: ĐÃ HẾT SẢN XUẤT
A30: 18 | B30: =IFERROR(VLOOKUP(A30,O.B.JUNE!$A$7:$C$448,2,0),0) -> ALFANI | C30: =IFERROR(VLOOKUP(A30,O.B.JUNE!$A$7:$C$448,3,0),0) -> 7N900 | D30: =F30-E30 -> 0 | E30: =IFERROR(VLOOKUP(C30,O.B.JUNE!$C$7:$D$448,2,0),0) -> 0 | F30: 0 | G30: =IFERROR(VLOOKUP(C30,O.B.JUNE!$C$7:$E$448,3,0),0) -> 144 | H30: =IF(F30="","",F30-E30) -> 0 | J30: =IF(S30="",0,S30-Q30-V30-R30) -> 144 | K30: 0 | L30: 0 | M30: =ROUND(IF(ISERROR(F30-S30-K30-L30-R30),0,(F30-S30-K30-L30+Q30+R30+G30-E30)),0) -> 0 | N30: 0 | O30: 0 | P30: =+M30-N30-O30 -> 0 | Q30: =IFERROR(VLOOKUP(C30,O.B.JUNE!$C$7:$K$448,7,0),0) -> 0 | R30: =IFERROR(VLOOKUP(C30,O.B.JUNE!$C$7:$J$448,8,0),0) -> 0 | S30: =Q30+T30+U30+R30 -> 144 | T30: 0 | U30: 144 | W30: 0 | Y30: 0 | Z30: 0 | AA30: =V30+U30+T30 -> 144 | AB30: =ROUND(Q30+T30+V30-X30-W30-Y30-Z30,0) -> 0 | AC30: =+R30+U30+Z30-X30 -> 144 | AD30: =AB30+AC30 -> 144 | AH30: =G30+H30-J30-L30-M30 -> 0 | AI30: =Q30+T30+U30-S30+R30 -> 0 | AJ30: =M30-N30-O30-P30 -> 0 | AK30: =M30-N30-O30-P30 -> 0 | AS30: ĐÃ HẾT SẢN XUẤT
A31: 19 | B31: =IFERROR(VLOOKUP(A31,O.B.JUNE!$A$7:$C$448,2,0),0) -> ALFANI | C31: =IFERROR(VLOOKUP(A31,O.B.JUNE!$A$7:$C$448,3,0),0) -> 100004400 | D31: =F31-E31 -> 0 | E31: =IFERROR(VLOOKUP(C31,O.B.JUNE!$C$7:$D$448,2,0),0) -> 0 | F31: 0 | G31: =IFERROR(VLOOKUP(C31,O.B.JUNE!$C$7:$E$448,3,0),0) -> 66 | H31: =IF(F31="","",F31-E31) -> 0 | J31: =IF(S31="",0,S31-Q31-V31-R31) -> 66 | K31: 0 | L31: 0 | M31: =ROUND(IF(ISERROR(F31-S31-K31-L31-R31),0,(F31-S31-K31-L31+Q31+R31+G31-E31)),0) -> 0 | N31: 0 | O31: 0 | P31: =+M31-N31-O31 -> 0 | Q31: =IFERROR(VLOOKUP(C31,O.B.JUNE!$C$7:$K$448,7,0),0) -> 0 | R31: =IFERROR(VLOOKUP(C31,O.B.JUNE!$C$7:$J$448,8,0),0) -> 0 | S31: =Q31+T31+U31+R31 -> 66 | T31: 0 | U31: 66 | W31: 0 | Y31: 0 | Z31: 0 | AA31: =V31+U31+T31 -> 66 | AB31: =ROUND(Q31+T31+V31-X31-W31-Y31-Z31,0) -> 0 | AC31: =+R31+U31+Z31-X31 -> 66 | AD31: =AB31+AC31 -> 66 | AH31: =G31+H31-J31-L31-M31 -> 0 | AI31: =Q31+T31+U31-S31+R31 -> 0 | AJ31: =M31-N31-O31-P31 -> 0 | AK31: =M31-N31-O31-P31 -> 0 | AS31: ĐÃ HẾT SẢN XUẤT
A32: 20 | B32: =IFERROR(VLOOKUP(A32,O.B.JUNE!$A$7:$C$448,2,0),0) -> ALFANI | C32: =IFERROR(VLOOKUP(A32,O.B.JUNE!$A$7:$C$448,3,0),0) -> 100008889 | D32: =F32-E32 -> 0 | E32: =IFERROR(VLOOKUP(C32,O.B.JUNE!$C$7:$D$448,2,0),0) -> 0 | F32: 0 | G32: =IFERROR(VLOOKUP(C32,O.B.JUNE!$C$7:$E$448,3,0),0) -> 164 | H32: =IF(F32="","",F32-E32) -> 0 | J32: =IF(S32="",0,S32-Q32-V32-R32) -> 164 | K32: 0 | L32: 0 | M32: =ROUND(IF(ISERROR(F32-S32-K32-L32-R32),0,(F32-S32-K32-L32+Q32+R32+G32-E32)),0) -> 0 | N32: 0 | O32: 0 | P32: =+M32-N32-O32 -> 0 | Q32: =IFERROR(VLOOKUP(C32,O.B.JUNE!$C$7:$K$448,7,0),0) -> 0 | R32: =IFERROR(VLOOKUP(C32,O.B.JUNE!$C$7:$J$448,8,0),0) -> 0 | S32: =Q32+T32+U32+R32 -> 164 | T32: 0 | U32: 164 | W32: 0 | Y32: 0 | Z32: 0 | AA32: =V32+U32+T32 -> 164 | AB32: =ROUND(Q32+T32+V32-X32-W32-Y32-Z32,0) -> 0 | AC32: =+R32+U32+Z32-X32 -> 164 | AD32: =AB32+AC32 -> 164 | AH32: =G32+H32-J32-L32-M32 -> 0 | AI32: =Q32+T32+U32-S32+R32 -> 0 | AJ32: =M32-N32-O32-P32 -> 0 | AK32: =M32-N32-O32-P32 -> 0 | AS32: ĐÃ HẾT SẢN XUẤT
A33: 21 | B33: =IFERROR(VLOOKUP(A33,O.B.JUNE!$A$7:$C$448,2,0),0) -> ALFANI | C33: =IFERROR(VLOOKUP(A33,O.B.JUNE!$A$7:$C$448,3,0),0) -> 100010579 | D33: =F33-E33 -> 859 | E33: =IFERROR(VLOOKUP(C33,O.B.JUNE!$C$7:$D$448,2,0),0) -> 13189 | F33: =VLOOKUP(C33,'CUTTING ON JUNE'!$A$4:$D$316,3,0) -> 14048 | G33: =IFERROR(VLOOKUP(C33,O.B.JUNE!$C$7:$E$448,3,0),0) -> 1457 | H33: =IF(F33="","",F33-E33) -> 859 | J33: =IF(S33="",0,S33-Q33-V33-R33) -> 1367 | K33: 0 | L33: 0 | M33: =ROUND(IF(ISERROR(F33-S33-K33-L33-R33),0,(F33-S33-K33-L33+Q33+R33+G33-E33)),0) -> 949 | N33: 0 | O33: 389 | P33: =+M33-N33-O33 -> 560 | Q33: =IFERROR(VLOOKUP(C33,O.B.JUNE!$C$7:$K$448,7,0),0) -> 8626 | R33: =IFERROR(VLOOKUP(C33,O.B.JUNE!$C$7:$J$448,8,0),0) -> 15 | S33: =Q33+T33+U33+R33 -> 10008 | T33: 1367 | W33: 9137 | Y33: 0 | Z33: 6 | AA33: =V33+U33+T33 -> 1367 | AB33: =ROUND(Q33+T33+V33-X33-W33-Y33-Z33,0) -> 850 | AC33: =+R33+U33+Z33-X33 -> 21 | AD33: =AB33+AC33 -> 871 | AH33: =G33+H33-J33-L33-M33 -> 0 | AI33: =Q33+T33+U33-S33+R33 -> 0 | AJ33: =M33-N33-O33-P33 -> 0 | AK33: =M33-N33-O33-P33 -> 0
A34: 22 | B34: =IFERROR(VLOOKUP(A34,O.B.JUNE!$A$7:$C$448,2,0),0) -> TALBOTS | C34: =IFERROR(VLOOKUP(A34,O.B.JUNE!$A$7:$C$448,3,0),0) -> 174034722 | D34: =F34-E34 -> 0 | E34: =IFERROR(VLOOKUP(C34,O.B.JUNE!$C$7:$D$448,2,0),0) -> 0 | F34: 0 | G34: =IFERROR(VLOOKUP(C34,O.B.JUNE!$C$7:$E$448,3,0),0) -> 182 | H34: =IF(F34="","",F34-E34) -> 0 | J34: =IF(S34="",0,S34-Q34-V34-R34) -> 182 | K34: 0 | L34: 0 | M34: =ROUND(IF(ISERROR(F34-S34-K34-L34-R34),0,(F34-S34-K34-L34+Q34+R34+G34-E34)),0) -> 0 | N34: 0 | O34: 0 | P34: =+M34-N34-O34 -> 0 | Q34: =IFERROR(VLOOKUP(C34,O.B.JUNE!$C$7:$K$448,7,0),0) -> 0 | R34: =IFERROR(VLOOKUP(C34,O.B.JUNE!$C$7:$J$448,8,0),0) -> 0 | S34: =Q34+T34+U34+R34 -> 182 | T34: 0 | U34: 182 | W34: 0 | Y34: 0 | Z34: 0 | AA34: =V34+U34+T34 -> 182 | AB34: =ROUND(Q34+T34+V34-X34-W34-Y34-Z34,0) -> 0 | AC34: =+R34+U34+Z34-X34 -> 182 | AD34: =AB34+AC34 -> 182 | AH34: =G34+H34-J34-L34-M34 -> 0 | AI34: =Q34+T34+U34-S34+R34 -> 0 | AJ34: =M34-N34-O34-P34 -> 0 | AK34: =M34-N34-O34-P34 -> 0 | AR34: =VLOOKUP(C34,'[1]DA HET SAN XUAT'!$D$8:$AJ$419,33,0) -> 0 | AS34: ĐÃ HẾT SẢN XUẤT
A35: 23 | B35: =IFERROR(VLOOKUP(A35,O.B.JUNE!$A$7:$C$448,2,0),0) -> TALBOTS | C35: =IFERROR(VLOOKUP(A35,O.B.JUNE!$A$7:$C$448,3,0),0) -> 174034719 | D35: =F35-E35 -> 0 | E35: =IFERROR(VLOOKUP(C35,O.B.JUNE!$C$7:$D$448,2,0),0) -> 0 | F35: 0 | G35: =IFERROR(VLOOKUP(C35,O.B.JUNE!$C$7:$E$448,3,0),0) -> 129 | H35: =IF(F35="","",F35-E35) -> 0 | J35: =IF(S35="",0,S35-Q35-V35-R35) -> 129 | K35: 0 | L35: 0 | M35: =ROUND(IF(ISERROR(F35-S35-K35-L35-R35),0,(F35-S35-K35-L35+Q35+R35+G35-E35)),0) -> 0 | N35: 0 | O35: 0 | P35: =+M35-N35-O35 -> 0 | Q35: =IFERROR(VLOOKUP(C35,O.B.JUNE!$C$7:$K$448,7,0),0) -> 0 | R35: =IFERROR(VLOOKUP(C35,O.B.JUNE!$C$7:$J$448,8,0),0) -> 0 | S35: =Q35+T35+U35+R35 -> 129 | T35: 0 | U35: 129 | W35: 0 | Y35: 0 | Z35: 0 | AA35: =V35+U35+T35 -> 129 | AB35: =ROUND(Q35+T35+V35-X35-W35-Y35-Z35,0) -> 0 | AC35: =+R35+U35+Z35-X35 -> 129 | AD35: =AB35+AC35 -> 129 | AH35: =G35+H35-J35-L35-M35 -> 0 | AI35: =Q35+T35+U35-S35+R35 -> 0 | AJ35: =M35-N35-O35-P35 -> 0 | AK35: =M35-N35-O35-P35 -> 0 | AS35: ĐÃ HẾT SẢN XUẤT
A36: 24 | B36: =IFERROR(VLOOKUP(A36,O.B.JUNE!$A$7:$C$448,2,0),0) -> TALBOTS | C36: =IFERROR(VLOOKUP(A36,O.B.JUNE!$A$7:$C$448,3,0),0) -> 174034721 | D36: =F36-E36 -> 0 | E36: =IFERROR(VLOOKUP(C36,O.B.JUNE!$C$7:$D$448,2,0),0) -> 0 | F36: 0 | G36: =IFERROR(VLOOKUP(C36,O.B.JUNE!$C$7:$E$448,3,0),0) -> 109 | H36: =IF(F36="","",F36-E36) -> 0 | J36: =IF(S36="",0,S36-Q36-V36-R36) -> 109 | K36: 0 | L36: 0 | M36: =ROUND(IF(ISERROR(F36-S36-K36-L36-R36),0,(F36-S36-K36-L36+Q36+R36+G36-E36)),0) -> 0 | N36: 0 | O36: 0 | P36: =+M36-N36-O36 -> 0 | Q36: =IFERROR(VLOOKUP(C36,O.B.JUNE!$C$7:$K$448,7,0),0) -> 0 | R36: =IFERROR(VLOOKUP(C36,O.B.JUNE!$C$7:$J$448,8,0),0) -> 0 | S36: =Q36+T36+U36+R36 -> 109 | T36: 0 | U36: 109 | V36: 0 | W36: 0 | Y36: 0 | Z36: 0 | AA36: =V36+U36+T36 -> 109 | AB36: =ROUND(Q36+T36+V36-X36-W36-Y36-Z36,0) -> 0 | AC36: =+R36+U36+Z36-X36 -> 109 | AD36: =AB36+AC36 -> 109 | AH36: =G36+H36-J36-L36-M36 -> 0 | AI36: =Q36+T36+U36-S36+R36 -> 0 | AJ36: =M36-N36-O36-P36 -> 0 | AK36: =M36-N36-O36-P36 -> 0 | AR36: =VLOOKUP(C36,'[1]DA HET SAN XUAT'!$D$8:$AJ$419,33,0) -> 0 | AS36: ĐÃ HẾT SẢN XUẤT
A37: 25 | B37: =IFERROR(VLOOKUP(A37,O.B.JUNE!$A$7:$C$448,2,0),0) -> ALFANI | C37: =IFERROR(VLOOKUP(A37,O.B.JUNE!$A$7:$C$448,3,0),0) -> 100003226 | D37: =F37-E37 -> 0 | E37: =IFERROR(VLOOKUP(C37,O.B.JUNE!$C$7:$D$448,2,0),0) -> 0 | F37: 0 | G37: =IFERROR(VLOOKUP(C37,O.B.JUNE!$C$7:$E$448,3,0),0) -> 101 | H37: =IF(F37="","",F37-E37) -> 0 | J37: =IF(S37="",0,S37-Q37-V37-R37) -> 101 | K37: 0 | L37: 0 | M37: =ROUND(IF(ISERROR(F37-S37-K37-L37-R37),0,(F37-S37-K37-L37+Q37+R37+G37-E37)),0) -> 0 | N37: 0 | O37: 0 | P37: =+M37-N37-O37 -> 0 | Q37: =IFERROR(VLOOKUP(C37,O.B.JUNE!$C$7:$K$448,7,0),0) -> 0 | R37: =IFERROR(VLOOKUP(C37,O.B.JUNE!$C$7:$J$448,8,0),0) -> 0 | S37: =Q37+T37+U37+R37 -> 101 | T37: 0 | U37: 101 | W37: 0 | Y37: 0 | Z37: 0 | AA37: =V37+U37+T37 -> 101 | AB37: =ROUND(Q37+T37+V37-X37-W37-Y37-Z37,0) -> 0 | AC37: =+R37+U37+Z37-X37 -> 101 | AD37: =AB37+AC37 -> 101 | AH37: =G37+H37-J37-L37-M37 -> 0 | AI37: =Q37+T37+U37-S37+R37 -> 0 | AJ37: =M37-N37-O37-P37 -> 0 | AK37: =M37-N37-O37-P37 -> 0 | AS37: ĐÃ HẾT SẢN XUẤT
A38: 26 | B38: =IFERROR(VLOOKUP(A38,O.B.JUNE!$A$7:$C$448,2,0),0) -> TALBOTS | C38: =IFERROR(VLOOKUP(A38,O.B.JUNE!$A$7:$C$448,3,0),0) -> 174034717 | D38: =F38-E38 -> 0 | E38: =IFERROR(VLOOKUP(C38,O.B.JUNE!$C$7:$D$448,2,0),0) -> 0 | F38: 0 | G38: =IFERROR(VLOOKUP(C38,O.B.JUNE!$C$7:$E$448,3,0),0) -> 99 | H38: =IF(F38="","",F38-E38) -> 0 | J38: =IF(S38="",0,S38-Q38-V38-R38) -> 99 | K38: 0 | L38: 0 | M38: =ROUND(IF(ISERROR(F38-S38-K38-L38-R38),0,(F38-S38-K38-L38+Q38+R38+G38-E38)),0) -> 0 | N38: 0 | O38: 0 | P38: =+M38-N38-O38 -> 0 | Q38: =IFERROR(VLOOKUP(C38,O.B.JUNE!$C$7:$K$448,7,0),0) -> 0 | R38: =IFERROR(VLOOKUP(C38,O.B.JUNE!$C$7:$J$448,8,0),0) -> 0 | S38: =Q38+T38+U38+R38 -> 99 | T38: 0 | U38: 99 | W38: 0 | Y38: 0 | Z38: 0 | AA38: =V38+U38+T38 -> 99 | AB38: =ROUND(Q38+T38+V38-X38-W38-Y38-Z38,0) -> 0 | AC38: =+R38+U38+Z38-X38 -> 99 | AD38: =AB38+AC38 -> 99 | AH38: =G38+H38-J38-L38-M38 -> 0 | AI38: =Q38+T38+U38-S38+R38 -> 0 | AJ38: =M38-N38-O38-P38 -> 0 | AK38: =M38-N38-O38-P38 -> 0 | AR38: =VLOOKUP(C38,'[1]DA HET SAN XUAT'!$D$8:$AJ$419,33,0) -> 0 | AS38: ĐÃ HẾT SẢN XUẤT
A39: 27 | B39: =IFERROR(VLOOKUP(A39,O.B.JUNE!$A$7:$C$448,2,0),0) -> ALFANI | C39: =IFERROR(VLOOKUP(A39,O.B.JUNE!$A$7:$C$448,3,0),0) -> 7N713 | D39: =F39-E39 -> 0 | E39: =IFERROR(VLOOKUP(C39,O.B.JUNE!$C$7:$D$448,2,0),0) -> 0 | F39: 0 | G39: =IFERROR(VLOOKUP(C39,O.B.JUNE!$C$7:$E$448,3,0),0) -> 179 | H39: =IF(F39="","",F39-E39) -> 0 | J39: =IF(S39="",0,S39-Q39-V39-R39) -> 0 | K39: 0 | L39: 0 | M39: =ROUND(IF(ISERROR(F39-S39-K39-L39-R39),0,(F39-S39-K39-L39+Q39+R39+G39-E39)),0) -> 179 | N39: 0 | O39: 0 | P39: =+M39-N39-O39 -> 179 | Q39: =IFERROR(VLOOKUP(C39,O.B.JUNE!$C$7:$K$448,7,0),0) -> 0 | R39: =IFERROR(VLOOKUP(C39,O.B.JUNE!$C$7:$J$448,8,0),0) -> 0 | S39: =Q39+T39+U39+R39 -> 0 | T39: 0 | W39: 0 | Y39: 0 | Z39: 0 | AA39: =V39+U39+T39 -> 0 | AB39: =ROUND(Q39+T39+V39-X39-W39-Y39-Z39,0) -> 0 | AC39: =+R39+U39+Z39-X39 -> 0 | AD39: =AB39+AC39 -> 0 | AH39: =G39+H39-J39-L39-M39 -> 0 | AI39: =Q39+T39+U39-S39+R39 -> 0 | AJ39: =M39-N39-O39-P39 -> 0 | AK39: =M39-N39-O39-P39 -> 0
A40: 28 | B40: =IFERROR(VLOOKUP(A40,O.B.JUNE!$A$7:$C$448,2,0),0) -> NORDSTROM | C40: =IFERROR(VLOOKUP(A40,O.B.JUNE!$A$7:$C$448,3,0),0) -> RK368419MI | D40: =F40-E40 -> 0 | E40: =IFERROR(VLOOKUP(C40,O.B.JUNE!$C$7:$D$448,2,0),0) -> 0 | F40: 0 | G40: =IFERROR(VLOOKUP(C40,O.B.JUNE!$C$7:$E$448,3,0),0) -> 71 | H40: =IF(F40="","",F40-E40) -> 0 | J40: =IF(S40="",0,S40-Q40-V40-R40) -> 71 | K40: 0 | L40: 0 | M40: =ROUND(IF(ISERROR(F40-S40-K40-L40-R40),0,(F40-S40-K40-L40+Q40+R40+G40-E40)),0) -> 0 | N40: 0 | O40: 0 | P40: =+M40-N40-O40 -> 0 | Q40: =IFERROR(VLOOKUP(C40,O.B.JUNE!$C$7:$K$448,7,0),0) -> 0 | R40: =IFERROR(VLOOKUP(C40,O.B.JUNE!$C$7:$J$448,8,0),0) -> 0 | S40: =Q40+T40+U40+R40 -> 71 | T40: 0 | U40: 71 | W40: 0 | Y40: 0 | Z40: 0 | AA40: =V40+U40+T40 -> 71 | AB40: =ROUND(Q40+T40+V40-X40-W40-Y40-Z40,0) -> 0 | AC40: =+R40+U40+Z40-X40 -> 71 | AD40: =AB40+AC40 -> 71 | AH40: =G40+H40-J40-L40-M40 -> 0 | AI40: =Q40+T40+U40-S40+R40 -> 0 | AJ40: =M40-N40-O40-P40 -> 0 | AK40: =M40-N40-O40-P40 -> 0 | AS40: ĐÃ HẾT SẢN XUẤT
A41: 29 | B41: =IFERROR(VLOOKUP(A41,O.B.JUNE!$A$7:$C$448,2,0),0) -> ANN TAYLOR | C41: =IFERROR(VLOOKUP(A41,O.B.JUNE!$A$7:$C$448,3,0),0) -> 453280 | D41: =F41-E41 -> 0 | E41: =IFERROR(VLOOKUP(C41,O.B.JUNE!$C$7:$D$448,2,0),0) -> 0 | F41: 0 | G41: =IFERROR(VLOOKUP(C41,O.B.JUNE!$C$7:$E$448,3,0),0) -> 196 | H41: =IF(F41="","",F41-E41) -> 0 | J41: =IF(S41="",0,S41-Q41-V41-R41) -> 196 | K41: 0 | L41: 0 | M41: =ROUND(IF(ISERROR(F41-S41-K41-L41-R41),0,(F41-S41-K41-L41+Q41+R41+G41-E41)),0) -> 0 | N41: 0 | O41: 0 | P41: =+M41-N41-O41 -> 0 | Q41: =IFERROR(VLOOKUP(C41,O.B.JUNE!$C$7:$K$448,7,0),0) -> 0 | R41: =IFERROR(VLOOKUP(C41,O.B.JUNE!$C$7:$J$448,8,0),0) -> 0 | S41: =Q41+T41+U41+R41 -> 196 | T41: 0 | U41: 196 | W41: 0 | Y41: 0 | Z41: 0 | AA41: =V41+U41+T41 -> 196 | AB41: =ROUND(Q41+T41+V41-X41-W41-Y41-Z41,0) -> 0 | AC41: =+R41+U41+Z41-X41 -> 196 | AD41: =AB41+AC41 -> 196 | AH41: =G41+H41-J41-L41-M41 -> 0 | AI41: =Q41+T41+U41-S41+R41 -> 0 | AJ41: =M41-N41-O41-P41 -> 0 | AK41: =M41-N41-O41-P41 -> 0 | AS41: ĐÃ HẾT SẢN XUẤT
A42: 30 | B42: =IFERROR(VLOOKUP(A42,O.B.JUNE!$A$7:$C$448,2,0),0) -> ALFANI | C42: =IFERROR(VLOOKUP(A42,O.B.JUNE!$A$7:$C$448,3,0),0) -> 100003227 | D42: =F42-E42 -> 0 | E42: =IFERROR(VLOOKUP(C42,O.B.JUNE!$C$7:$D$448,2,0),0) -> 10247 | F42: =VLOOKUP(C42,'CUTTING ON JUNE'!$A$4:$D$316,3,0) -> 10247 | G42: =IFERROR(VLOOKUP(C42,O.B.JUNE!$C$7:$E$448,3,0),0) -> 378 | H42: =IF(F42="","",F42-E42) -> 0 | J42: =IF(S42="",0,S42-Q42-V42-R42) -> 0 | K42: 0 | L42: 0 | M42: =ROUND(IF(ISERROR(F42-S42-K42-L42-R42),0,(F42-S42-K42-L42+Q42+R42+G42-E42)),0) -> 378 | N42: 0 | O42: 0 | P42: =+M42-N42-O42 -> 378 | Q42: =IFERROR(VLOOKUP(C42,O.B.JUNE!$C$7:$K$448,7,0),0) -> 0 | R42: =IFERROR(VLOOKUP(C42,O.B.JUNE!$C$7:$J$448,8,0),0) -> 0 | S42: =Q42+T42+U42+R42 -> 0 | T42: 0 | W42: 0 | Y42: 0 | Z42: 0 | AA42: =V42+U42+T42 -> 0 | AB42: =ROUND(Q42+T42+V42-X42-W42-Y42-Z42,0) -> 0 | AC42: =+R42+U42+Z42-X42 -> 0 | AD42: =AB42+AC42 -> 0 | AH42: =G42+H42-J42-L42-M42 -> 0 | AI42: =Q42+T42+U42-S42+R42 -> 0 | AJ42: =M42-N42-O42-P42 -> 0 | AK42: =M42-N42-O42-P42 -> 0 | AR42: =VLOOKUP(C42,'[1]DA HET SAN XUAT'!$D$8:$AJ$419,33,0) -> 0
A43: 31 | B43: =IFERROR(VLOOKUP(A43,O.B.JUNE!$A$7:$C$448,2,0),0) -> ALFANI | C43: =IFERROR(VLOOKUP(A43,O.B.JUNE!$A$7:$C$448,3,0),0) -> 100003486 | D43: =F43-E43 -> 0 | E43: =IFERROR(VLOOKUP(C43,O.B.JUNE!$C$7:$D$448,2,0),0) -> 0 | F43: 0 | G43: =IFERROR(VLOOKUP(C43,O.B.JUNE!$C$7:$E$448,3,0),0) -> 249 | H43: =IF(F43="","",F43-E43) -> 0 | J43: =IF(S43="",0,S43-Q43-V43-R43) -> 0 | K43: 0 | L43: 0 | M43: =ROUND(IF(ISERROR(F43-S43-K43-L43-R43),0,(F43-S43-K43-L43+Q43+R43+G43-E43)),0) -> 249 | N43: 0 | O43: 0 | P43: =+M43-N43-O43 -> 249 | Q43: =IFERROR(VLOOKUP(C43,O.B.JUNE!$C$7:$K$448,7,0),0) -> 0 | R43: =IFERROR(VLOOKUP(C43,O.B.JUNE!$C$7:$J$448,8,0),0) -> 0 | S43: =Q43+T43+U43+R43 -> 0 | T43: 0 | W43: 0 | Y43: 0 | Z43: 0 | AA43: =V43+U43+T43 -> 0 | AB43: =ROUND(Q43+T43+V43-X43-W43-Y43-Z43,0) -> 0 | AC43: =+R43+U43+Z43-X43 -> 0 | AD43: =AB43+AC43 -> 0 | AH43: =G43+H43-J43-L43-M43 -> 0 | AI43: =Q43+T43+U43-S43+R43 -> 0 | AJ43: =M43-N43-O43-P43 -> 0 | AK43: =M43-N43-O43-P43 -> 0
A44: 32 | B44: =IFERROR(VLOOKUP(A44,O.B.JUNE!$A$7:$C$448,2,0),0) -> ALFANI | C44: =IFERROR(VLOOKUP(A44,O.B.JUNE!$A$7:$C$448,3,0),0) -> 100003532 | D44: =F44-E44 -> 0 | E44: =IFERROR(VLOOKUP(C44,O.B.JUNE!$C$7:$D$448,2,0),0) -> 0 | F44: 0 | G44: =IFERROR(VLOOKUP(C44,O.B.JUNE!$C$7:$E$448,3,0),0) -> 68 | H44: =IF(F44="","",F44-E44) -> 0 | J44: =IF(S44="",0,S44-Q44-V44-R44) -> 0 | K44: 0 | L44: 0 | M44: =ROUND(IF(ISERROR(F44-S44-K44-L44-R44),0,(F44-S44-K44-L44+Q44+R44+G44-E44)),0) -> 68 | N44: 0 | O44: 0 | P44: =+M44-N44-O44 -> 68 | Q44: =IFERROR(VLOOKUP(C44,O.B.JUNE!$C$7:$K$448,7,0),0) -> 0 | R44: =IFERROR(VLOOKUP(C44,O.B.JUNE!$C$7:$J$448,8,0),0) -> 0 | S44: =Q44+T44+U44+R44 -> 0 | T44: 0 | W44: 0 | Y44: 0 | Z44: 0 | AA44: =V44+U44+T44 -> 0 | AB44: =ROUND(Q44+T44+V44-X44-W44-Y44-Z44,0) -> 0 | AC44: =+R44+U44+Z44-X44 -> 0 | AD44: =AB44+AC44 -> 0 | AH44: =G44+H44-J44-L44-M44 -> 0 | AI44: =Q44+T44+U44-S44+R44 -> 0 | AJ44: =M44-N44-O44-P44 -> 0 | AK44: =M44-N44-O44-P44 -> 0
...

Sheet O.B.JUNE
D4: =SUBTOTAL(9,D7:D447) -> 2216793 | E4: =SUBTOTAL(9,E7:E447) -> 290539 | F4: =SUBTOTAL(9,F7:F447) -> 29157 | G4: =SUBTOTAL(9,G7:G447) -> 77476 | H4: =SUBTOTAL(9,H7:H447) -> 183152 | I4: =SUBTOTAL(9,I7:I447) -> 166221 | J4: =SUBTOTAL(9,J7:J447) -> 6895 | K4: =SUBTOTAL(9,K7:K447) -> 173116 | L4: =SUBTOTAL(9,L7:L418) -> 0 | N4: =SUBTOTAL(9,N7:N351) -> 19118965824 | O4: =SUBTOTAL(9,O7:O447) -> 29157 | P4: =SUBTOTAL(9,P7:P447) -> 77476 | Q4: =SUBTOTAL(9,Q7:Q447) -> 183906 | R4: =SUBTOTAL(9,R7:R447) -> 290539 | S4: =SUBTOTAL(9,S7:S447) -> 8125656666 | T4: =SUBTOTAL(9,T7:T447) -> 473.73737 | U4: =SUBTOTAL(9,U7:U351) -> #N/A | W4: =SUBTOTAL(9,W7:W447) -> 173116 | X4: =SUBTOTAL(9,X7:X447) -> 3971446.6 | Y4: =SUBTOTAL(9,Y7:Y447) -> 6043796522 | Z4: =SUBTOTAL(9,Z7:Z351) -> 0 | AA4: =SUBTOTAL(9,AA7:AA351) -> 19118965824 | AB4: =SUBTOTAL(9,AB7:AB447) -> 29157 | AC4: =SUBTOTAL(9,AC7:AC447) -> 77476 | AD4: =SUBTOTAL(9,AD7:AD447) -> 183906 | AE4: =SUBTOTAL(9,AE7:AE447) -> 290539 | AF4: =SUBTOTAL(9,AF7:AF447) -> 191701 | AG4: =SUBTOTAL(9,AG7:AG447) -> 2982751877 | AH4: =SUBTOTAL(9,AH7:AH351) -> 0 | AI4: =SUBTOTAL(9,AI7:AI351) -> 19118965824 | AJ4: =SUBTOTAL(9,AJ7:AJ447) -> 29157 | AK4: =SUBTOTAL(9,AK7:AK447) -> 77476 | AL4: =SUBTOTAL(9,AL7:AL447) -> 183906 | AM4: =SUBTOTAL(9,AM7:AM447) -> 290539 | AN4: =SUBTOTAL(9,AN7:AN447) -> 191701 | AO4: =SUBTOTAL(9,AO7:AO447) -> 5142904789
C5: QUANTITY | N5: WIP | V5: ACC 155 | AA5: ACC 622 | AI5: ACC 627
B6: BUYER | C6: STYLE | D6: CUTTING | E6: WIP | I6: QUY | J6: NGA | K6: TOTAL TP | N6: STYLE | O6: 0.2 | P6: 0.5 | Q6: 0.8 | R6: TOTAL | S6: AMOUNT | T6: CMP | V6: STYLE | W6: QUANTITY | X6: PRICE | Y6: AMOUNT | AA6: STYLE | AB6: 0.2 | AC6: 0.5 | AD6: 0.8 | AE6: TOTAL | AF6: EQUIVALENT | AG6: AMOUNT | AI6: STYLE | AJ6: 0.2 | AK6: 0.5 | AL6: 0.8 | AM6: TOTAL | AN6: EQUIVALENT | AO6: AMOUNT
A7: 1 | B7: ALFANI | C7: 69717 | D7: 12331 | E7: 3455 | F7: 906 | G7: 1305 | H7: 1244 | I7: 1878 | J7: 0 | K7: 1878 | N7: 69717 | O7: 906 | P7: 1305 | Q7: 1244 | R7: 3455 | S7: 39482599 | T7: 0.35 | U7: =VLOOKUP(N7,'[2]154'!$C$9:$T$554,18,0) -> 7054 | V7: 69717 | W7: 1878 | X7: 13055.03 | Y7: 24517347 | AA7: 69717 | AB7: 906 | AC7: 1305 | AD7: 1244 | AE7: 3455 | AF7: 1829 | AG7: 15027404 | AI7: 69717 | AJ7: 906 | AK7: 1305 | AL7: 1244 | AM7: 3455 | AN7: 1829 | AO7: 24455195
A8: 2 | B8: ALFANI | C8: 73738 | D8: 0 | E8: 473 | F8: 0 | G8: 0 | H8: 473 | I8: 0 | J8: 0 | K8: 0 | N8: 73738 | O8: 0 | P8: 0 | Q8: 473 | R8: 473 | S8: 14152577 | T8: 1.8 | U8: =VLOOKUP(N8,'[2]154'!$C$9:$T$554,18,0) -> 473 | V8: 73738 | W8: 0 | X8: 0 | Y8: 0 | AA8: 73738 | AB8: 0 | AC8: 0 | AD8: 473 | AE8: 473 | AF8: 378 | AG8: 5570974 | AI8: 73738 | AJ8: 0 | AK8: 0 | AL8: 473 | AM8: 473 | AN8: 378 | AO8: 8581603
A9: 3 | B9: ALFANI | C9: 73746 | D9: 0 | E9: 0 | F9: 0 | G9: 0 | H9: 0 | I9: 0 | J9: 11 | K9: 11 | N9: 73746 | O9: 0 | P9: 0 | Q9: 0 | R9: 0 | S9: 0 | T9: 2 | U9: =VLOOKUP(N9,'[2]154'!$C$9:$T$554,18,0) -> 0 | V9: 73746 | W9: 11 | X9: 17426.909 | Y9: 191696 | AA9: 73746 | AB9: 0 | AC9: 0 | AD9: 0 | AE9: 0 | AF9: 0 | AG9: 0 | AI9: 73746 | AJ9: 0 | AK9: 0 | AL9: 0 | AM9: 0 | AN9: 0 | AO9: 0
A10: 4 | B10: ALFANI | C10: 74211 | D10: 3960 | E10: 37 | F10: 0 | G10: 0 | H10: 37 | I10: 0 | J10: 0 | K10: 0 | N10: 74211 | O10: 0 | P10: 0 | Q10: 37 | R10: 37 | S10: 650887 | T10: 0.35 | U10: =VLOOKUP(N10,'[2]154'!$C$9:$T$554,18,0) -> 435 | V10: 74211 | W10: 0 | X10: 0 | Y10: 0 | AA10: 74211 | AB10: 0 | AC10: 0 | AD10: 37 | AE10: 37 | AF10: 30 | AG10: 263270 | AI10: 74211 | AJ10: 0 | AK10: 0 | AL10: 37 | AM10: 37 | AN10: 30 | AO10: 387617
A11: 5 | B11: ALFANI | C11: 2072 | D11: 142225 | E11: 10378 | F11: 64 | G11: 861 | H11: 9453 | I11: 0 | J11: 142 | K11: 142 | N11: 2072 | O11: 64 | P11: 861 | Q11: 9453 | R11: 10378 | S11: 240276385 | T11: 1.26 | U11: 12327 | V11: 2072 | W11: 142 | X11: 23081.155 | Y11: 3277524 | AA11: 2072 | AB11: 64 | AC11: 861 | AD11: 9453 | AE11: 10378 | AF11: 8006 | AG11: 83856048 | AI11: 2072 | AJ11: 64 | AK11: 861 | AL11: 9453 | AM11: 10378 | AN11: 8006 | AO11: 156420337
A12: 6 | B12: J JILL | C12: KPT001611 | D12: 89849 | E12: 16696 | F12: 79 | G12: 129 | H12: 16488 | I12: 0 | J12: 0 | K12: 0 | N12: KPT001611 | O12: 79 | P12: 129 | Q12: 16488 | R12: 16696 | S12: 406026305 | T12: 0.35 | U12: =VLOOKUP(N12,'[2]154'!$C$9:$T$554,18,0) -> 16696 | V12: KPT001611 | W12: 0 | X12: 0 | Y12: 0 | AA12: KPT001611 | AB12: 79 | AC12: 129 | AD12: 16488 | AE12: 16696 | AF12: 13271 | AG12: 177821244 | AI12: KPT001611 | AJ12: 79 | AK12: 129 | AL12: 16488 | AM12: 16696 | AN12: 13271 | AO12: 228205061
A13: 7 | B13: J JILL | C13: KPT101081 | D13: 45884 | E13: 2660 | F13: 230 | G13: 328 | H13: 2102 | I13: 5304 | J13: 58 | K13: 5362 | N13: KPT101081 | O13: 230 | P13: 328 | Q13: 2102 | R13: 2660 | S13: 62345021 | T13: 1.55 | U13: =VLOOKUP(N13,'[2]154'!$C$9:$T$554,18,0) -> 2601 | V13: KPT101081 | W13: 5362 | X13: 30703.3 | Y13: 164631096 | AA13: KPT101081 | AB13: 230 | AC13: 328 | AD13: 2102 | AE13: 2660 | AF13: 1892 | AG13: 22123052 | AI13: KPT101081 | AJ13: 230 | AK13: 328 | AL13: 2102 | AM13: 2660 | AN13: 1892 | AO13: 40221969
A14: 8 | B14: ALFANI | C14: 7285 | D14: 0 | E14: 32 | F14: 0 | G14: 0 | H14: 32 | I14: 0 | J14: 0 | K14: 0 | N14: 7285 | O14: 0 | P14: 0 | Q14: 32 | R14: 32 | S14: 1355820 | T14: 0.35 | U14: =VLOOKUP(N14,'[2]154'!$C$9:$T$554,18,0) -> 32 | V14: 7285 | W14: 0 | X14: 0 | Y14: 0 | AA14: 7285 | AB14: 0 | AC14: 0 | AD14: 32 | AE14: 32 | AF14: 26 | AG14: 569868 | AI14: 7285 | AJ14: 0 | AK14: 0 | AL14: 32 | AM14: 32 | AN14: 26 | AO14: 785952
A15: 9 | B15: ALFANI | C15: 100004407 | D15: 14942 | E15: 305 | F15: 0 | G15: 116 | H15: 189 | I15: 0 | J15: 0 | K15: 0 | N15: 100004407 | O15: 0 | P15: 116 | Q15: 189 | R15: 305 | S15: 5269051 | T15: 0.36 | U15: =VLOOKUP(N15,'[2]154'!$C$9:$T$554,18,0) -> 685 | V15: 100004407 | W15: 0 | X15: 0 | Y15: 0 | AA15: 100004407 | AB15: 0 | AC15: 116 | AD15: 189 | AE15: 305 | AF15: 209 | AG15: 1959476 | AI15: 100004407 | AJ15: 0 | AK15: 116 | AL15: 189 | AM15: 305 | AN15: 209 | AO15: 3309575
A16: 10 | B16: ANN TAYLOR | C16: 446749 | D16: 0 | E16: 165 | F16: 0 | G16: 0 | H16: 165 | I16: 0 | J16: 0 | K16: 0 | N16: 446749 | O16: 0 | P16: 0 | Q16: 165 | R16: 165 | S16: 7256593 | T16: 2.65 | U16: =VLOOKUP(N16,'[2]154'!$C$9:$T$554,18,0) -> 165 | V16: 446749 | W16: 0 | X16: 0 | Y16: 0 | AA16: 446749 | AB16: 0 | AC16: 0 | AD16: 165 | AE16: 165 | AF16: 132 | AG16: 2743703 | AI16: 446749 | AJ16: 0 | AK16: 0 | AL16: 165 | AM16: 165 | AN16: 132 | AO16: 4512890
A17: 11 | B17: ANN TAYLOR | C17: 446053 | D17: 0 | E17: 63 | F17: 0 | G17: 0 | H17: 63 | I17: 0 | J17: 0 | K17: 0 | N17: 446053 | O17: 0 | P17: 0 | Q17: 63 | R17: 63 | S17: 1145629 | T17: 0.35 | U17: =VLOOKUP(N17,'[2]154'!$C$9:$T$554,18,0) -> 63 | V17: 446053 | W17: 0 | X17: 0 | Y17: 0 | AA17: 446053 | AB17: 0 | AC17: 0 | AD17: 63 | AE17: 63 | AF17: 50 | AG17: 433160 | AI17: 446053 | AJ17: 0 | AK17: 0 | AL17: 63 | AM17: 63 | AN17: 50 | AO17: 712469
A18: 12 | B18: ALFANI | C18: 100004405 | D18: 0 | E18: 79 | F18: 0 | G18: 0 | H18: 79 | I18: 0 | J18: 0 | K18: 0 | N18: 100004405 | O18: 0 | P18: 0 | Q18: 79 | R18: 79 | S18: 1370172 | T18: 0.36 | U18: =VLOOKUP(N18,'[2]154'!$C$9:$T$554,18,0) -> 79 | V18: 100004405 | W18: 0 | X18: 0 | Y18: 0 | AA18: 100004405 | AB18: 0 | AC18: 0 | AD18: 79 | AE18: 79 | AF18: 63 | AG18: 525166 | AI18: 100004405 | AJ18: 0 | AK18: 0 | AL18: 79 | AM18: 79 | AN18: 63 | AO18: 845006
A19: 13 | B19: ALFANI | C19: 100003246 | D19: 0 | E19: 377 | F19: 0 | G19: 0 | H19: 377 | I19: 0 | J19: 0 | K19: 0 | N19: 100003246 | O19: 0 | P19: 0 | Q19: 377 | R19: 377 | S19: 6456010 | T19: 0.36 | U19: =VLOOKUP(N19,'[2]154'!$C$9:$T$554,18,0) -> 377 | V19: 100003246 | W19: 0 | X19: 0 | Y19: 0 | AA19: 100003246 | AB19: 0 | AC19: 0 | AD19: 377 | AE19: 377 | AF19: 302 | AG19: 2474021 | AI19: 100003246 | AJ19: 0 | AK19: 0 | AL19: 377 | AM19: 377 | AN19: 302 | AO19: 3981989
A20: 14 | B20: ALFANI | C20: 100001802 | D20: 0 | E20: 103 | F20: 0 | G20: 0 | H20: 103 | I20: 0 | J20: 0 | K20: 0 | N20: 100001802 | O20: 0 | P20: 0 | Q20: 103 | R20: 103 | S20: 3319034 | T20: 0.35 | U20: =VLOOKUP(N20,'[2]154'!$C$9:$T$554,18,0) -> 103 | V20: 100001802 | W20: 0 | X20: 0 | Y20: 0 | AA20: 100001802 | AB20: 0 | AC20: 0 | AD20: 103 | AE20: 103 | AF20: 82 | AG20: 1254920 | AI20: 100001802 | AJ20: 0 | AK20: 0 | AL20: 103 | AM20: 103 | AN20: 82 | AO20: 2064114
A21: 15 | B21: ALFANI | C21: 68416 | D21: 2385 | E21: 872 | F21: 56 | G21: 361 | H21: 455 | I21: 197 | J21: 0 | K21: 197 | N21: 68416 | O21: 56 | P21: 361 | Q21: 455 | R21: 872 | S21: 12847544 | T21: 0.35 | U21: =VLOOKUP(N21,'[2]154'!$C$9:$T$554,18,0) -> 279 | V21: 68416 | W21: 197 | X21: 18368.604 | Y21: 3618615 | AA21: 68416 | AB21: 56 | AC21: 361 | AD21: 455 | AE21: 872 | AF21: 556 | AG21: 5097760 | AI21: 68416 | AJ21: 56 | AK21: 361 | AL21: 455 | AM21: 872 | AN21: 556 | AO21: 7749784
A22: 16 | B22: ALFANI | C22: 7X408 | D22: 0 | E22: 108 | F22: 0 | G22: 0 | H22: 108 | I22: 0 | J22: 0 | K22: 0 | N22: 7X408 | O22: 0 | P22: 0 | Q22: 108 | R22: 108 | S22: 3528069 | T22: 0.35 | U22: =VLOOKUP(N22,'[2]154'!$C$9:$T$554,18,0) -> 108 | V22: 7X408 | W22: 0 | X22: 0 | Y22: 0 | AA22: 7X408 | AB22: 0 | AC22: 0 | AD22: 108 | AE22: 108 | AF22: 86 | AG22: 1477379 | AI22: 7X408 | AJ22: 0 | AK22: 0 | AL22: 108 | AM22: 108 | AN22: 86 | AO22: 2050690
A23: 17 | B23: ALFANI | C23: 7X708 | D23: 7574 | E23: 187 | F23: 0 | G23: 0 | H23: 187 | I23: 0 | J23: 0 | K23: 0 | N23: 7X708 | O23: 0 | P23: 0 | Q23: 187 | R23: 187 | S23: 6487713 | T23: 0.35 | U23: =VLOOKUP(N23,'[2]154'!$C$9:$T$554,18,0) -> 228 | V23: 7X708 | W23: 0 | X23: 0 | Y23: 0 | AA23: 7X708 | AB23: 0 | AC23: 0 | AD23: 187 | AE23: 187 | AF23: 150 | AG23: 2744030 | AI23: 7X708 | AJ23: 0 | AK23: 0 | AL23: 187 | AM23: 187 | AN23: 150 | AO23: 3743683
A24: 18 | B24: ALFANI | C24: 7N900 | D24: 0 | E24: 144 | F24: 0 | G24: 22 | H24: 122 | I24: 0 | J24: 0 | K24: 0 | N24: 7N900 | O24: 0 | P24: 22 | Q24: 122 | R24: 144 | S24: 4304157 | T24: 0.35 | U24: =VLOOKUP(N24,'[2]154'!$C$9:$T$554,18,0) -> 144 | V24: 7N900 | W24: 0 | X24: 0 | Y24: 0 | AA24: 7N900 | AB24: 0 | AC24: 22 | AD24: 122 | AE24: 144 | AF24: 109 | AG24: 1627393 | AI24: 7N900 | AJ24: 0 | AK24: 22 | AL24: 122 | AM24: 144 | AN24: 109 | AO24: 2676764
A25: 19 | B25: ALFANI | C25: 100004400 | D25: 0 | E25: 66 | F25: 0 | G25: 0 | H25: 66 | I25: 0 | J25: 0 | K25: 0 | N25: 100004400 | O25: 0 | P25: 0 | Q25: 66 | R25: 66 | S25: 4577653 | T25: 0.35 | U25: =VLOOKUP(N25,'[2]154'!$C$9:$T$554,18,0) -> 66 | V25: 100004400 | W25: 0 | X25: 0 | Y25: 0 | AA25: 100004400 | AB25: 0 | AC25: 0 | AD25: 66 | AE25: 66 | AF25: 53 | AG25: 1905620 | AI25: 100004400 | AJ25: 0 | AK25: 0 | AL25: 66 | AM25: 66 | AN25: 53 | AO25: 2672033
A26: 20 | B26: ALFANI | C26: 100008889 | D26: 0 | E26: 164 | F26: 0 | G26: 0 | H26: 164 | I26: 0 | J26: 0 | K26: 0 | N26: 100008889 | O26: 0 | P26: 0 | Q26: 164 | R26: 164 | S26: 5575665 | T26: 0.35 | U26: =VLOOKUP(N26,'[2]154'!$C$9:$T$554,18,0) -> 164 | V26: 100008889 | W26: 0 | X26: 0 | Y26: 0 | AA26: 100008889 | AB26: 0 | AC26: 0 | AD26: 164 | AE26: 164 | AF26: 131 | AG26: 2334808 | AI26: 100008889 | AJ26: 0 | AK26: 0 | AL26: 164 | AM26: 164 | AN26: 131 | AO26: 3240857
A27: 21 | B27: ALFANI | C27: 100010579 | D27: 13189 | E27: 1457 | F27: 0 | G27: 442 | H27: 1015 | I27: 8626 | J27: 15 | K27: 8641 | N27: 100010579 | O27: 0 | P27: 442 | Q27: 1015 | R27: 1457 | S27: 57160055 | T27: 1.98 | U27: =VLOOKUP(N27,'[2]154'!$C$9:$T$554,18,0) -> 566 | V27: 100010579 | W27: 8641 | X27: 39227.542 | Y27: 338965192 | AA27: 100010579 | AB27: 0 | AC27: 442 | AD27: 1015 | AE27: 1457 | AF27: 1033 | AG27: 19418002 | AI27: 100010579 | AJ27: 0 | AK27: 442 | AL27: 1015 | AM27: 1457 | AN27: 1033 | AO27: 37742053
A28: 22 | B28: TALBOTS | C28: 174034722 | D28: 0 | E28: 182 | F28: 0 | G28: 0 | H28: 182 | I28: 0 | J28: 0 | K28: 0 | N28: 174034722 | O28: 0 | P28: 0 | Q28: 182 | R28: 182 | S28: 10751887 | T28: 0.35 | U28: =VLOOKUP(N28,'[2]154'!$C$9:$T$554,18,0) -> 182 | V28: 174034722 | W28: 0 | X28: 0 | Y28: 0 | AA28: 174034722 | AB28: 0 | AC28: 0 | AD28: 182 | AE28: 182 | AF28: 146 | AG28: 4500604 | AI28: 174034722 | AJ28: 0 | AK28: 0 | AL28: 182 | AM28: 182 | AN28: 146 | AO28: 6251283
A29: 23 | B29: TALBOTS | C29: 174034719 | D29: 0 | E29: 129 | F29: 0 | G29: 0 | H29: 129 | I29: 0 | J29: 0 | K29: 0 | N29: 174034719 | O29: 0 | P29: 0 | Q29: 129 | R29: 129 | S29: 7264411 | T29: 0.35 | U29: =VLOOKUP(N29,'[2]154'!$C$9:$T$554,18,0) -> 129 | V29: 174034719 | W29: 0 | X29: 0 | Y29: 0 | AA29: 174034719 | AB29: 0 | AC29: 0 | AD29: 129 | AE29: 129 | AF29: 103 | AG29: 2903453 | AI29: 174034719 | AJ29: 0 | AK29: 0 | AL29: 129 | AM29: 129 | AN29: 103 | AO29: 4360958
A30: 24 | B30: TALBOTS | C30: 174034721 | D30: 0 | E30: 109 | F30: 0 | G30: 0 | H30: 109 | I30: 0 | J30: 0 | K30: 0 | N30: 174034721 | O30: 0 | P30: 0 | Q30: 109 | R30: 109 | S30: 7454935 | T30: 0.35 | U30: =VLOOKUP(N30,'[2]154'!$C$9:$T$554,18,0) -> 109 | V30: 174034721 | W30: 0 | X30: 0 | Y30: 0 | AA30: 174034721 | AB30: 0 | AC30: 0 | AD30: 109 | AE30: 109 | AF30: 87 | AG30: 2979602 | AI30: 174034721 | AJ30: 0 | AK30: 0 | AL30: 109 | AM30: 109 | AN30: 87 | AO30: 4475333
A31: 25 | B31: ALFANI | C31: 100003226 | D31: 0 | E31: 101 | F31: 0 | G31: 0 | H31: 101 | I31: 0 | J31: 0 | K31: 0 | N31: 100003226 | O31: 0 | P31: 0 | Q31: 101 | R31: 101 | S31: 6659079 | T31: 0.35 | U31: =VLOOKUP(N31,'[2]154'!$C$9:$T$554,18,0) -> 101 | V31: 100003226 | W31: 0 | X31: 0 | Y31: 0 | AA31: 100003226 | AB31: 0 | AC31: 0 | AD31: 101 | AE31: 101 | AF31: 81 | AG31: 2661513 | AI31: 100003226 | AJ31: 0 | AK31: 0 | AL31: 101 | AM31: 101 | AN31: 81 | AO31: 3997566
A32: 26 | B32: TALBOTS | C32: 174034717 | D32: 0 | E32: 99 | F32: 0 | G32: 0 | H32: 99 | I32: 0 | J32: 0 | K32: 0 | N32: 174034717 | O32: 0 | P32: 0 | Q32: 99 | R32: 99 | S32: 7964501 | T32: 0.35 | U32: =VLOOKUP(N32,'[2]154'!$C$9:$T$554,18,0) -> 99 | V32: 174034717 | W32: 0 | X32: 0 | Y32: 0 | AA32: 174034717 | AB32: 0 | AC32: 0 | AD32: 99 | AE32: 99 | AF32: 79 | AG32: 3183266 | AI32: 174034717 | AJ32: 0 | AK32: 0 | AL32: 99 | AM32: 99 | AN32: 79 | AO32: 4781235
A33: 27 | B33: ALFANI | C33: 7N713 | D33: 0 | E33: 179 | F33: 0 | G33: 0 | H33: 179 | I33: 0 | J33: 0 | K33: 0 | N33: 7N713 | O33: 0 | P33: 0 | Q33: 179 | R33: 179 | S33: 6187449 | T33: 2 | U33: =VLOOKUP(N33,'[2]154'!$C$9:$T$554,18,0) -> 179 | V33: 7N713 | W33: 0 | X33: 0 | Y33: 0 | AA33: 7N713 | AB33: 0 | AC33: 0 | AD33: 179 | AE33: 179 | AF33: 143 | AG33: 2473011 | AI33: 7N713 | AJ33: 0 | AK33: 0 | AL33: 179 | AM33: 179 | AN33: 143 | AO33: 3714438
A34: 28 | B34: NORDSTROM | C34: RK368419MI | D34: 0 | E34: 71 | F34: 0 | G34: 0 | H34: 71 | I34: 0 | J34: 0 | K34: 0 | N34: RK368419MI | O34: 0 | P34: 0 | Q34: 71 | R34: 71 | S34: 4747677 | T34: 0.35 | U34: =VLOOKUP(N34,'[2]154'!$C$9:$T$554,18,0) -> 71 | V34: RK368419MI | W34: 0 | X34: 0 | Y34: 0 | AA34: RK368419MI | AB34: 0 | AC34: 0 | AD34: 71 | AE34: 71 | AF34: 57 | AG34: 1897560 | AI34: RK368419MI | AJ34: 0 | AK34: 0 | AL34: 71 | AM34: 71 | AN34: 57 | AO34: 2850117
A35: 29 | B35: ANN TAYLOR | C35: 453280 | D35: 0 | E35: 196 | F35: 0 | G35: 0 | H35: 196 | I35: 0 | J35: 0 | K35: 0 | N35: 453280 | O35: 0 | P35: 0 | Q35: 196 | R35: 196 | S35: 6283721 | T35: 0.35 | U35: =VLOOKUP(N35,'[2]154'!$C$9:$T$554,18,0) -> 196 | V35: 453280 | W35: 0 | X35: 0 | Y35: 0 | AA35: 453280 | AB35: 0 | AC35: 0 | AD35: 196 | AE35: 196 | AF35: 157 | AG35: 2511489 | AI35: 453280 | AJ35: 0 | AK35: 0 | AL35: 196 | AM35: 196 | AN35: 157 | AO35: 3772232
A36: 30 | B36: ALFANI | C36: 100003227 | D36: 10247 | E36: 378 | F36: 0 | G36: 0 | H36: 378 | I36: 0 | J36: 0 | K36: 0 | N36: 100003227 | O36: 0 | P36: 0 | Q36: 378 | R36: 378 | S36: 9502769 | T36: 0.36 | U36: =VLOOKUP(N36,'[2]154'!$C$9:$T$554,18,0) -> 378 | V36: 100003227 | W36: 0 | X36: 0 | Y36: 0 | AA36: 100003227 | AB36: 0 | AC36: 0 | AD36: 378 | AE36: 378 | AF36: 302 | AG36: 4025106 | AI36: 100003227 | AJ36: 0 | AK36: 0 | AL36: 378 | AM36: 378 | AN36: 302 | AO36: 5477663
A37: 31 | B37: ALFANI | C37: 100003486 | D37: 0 | E37: 249 | H37: 249 | I37: 0 | J37: 0 | K37: 0 | N37: 100003486 | O37: 0 | P37: 0 | Q37: 249 | R37: 249 | S37: 7852672 | T37: 0.35 | U37: =VLOOKUP(N37,'[2]154'!$C$9:$T$554,18,0) -> 249 | V37: 100003486 | W37: 0 | X37: 0 | Y37: 0 | AA37: 100003486 | AB37: 0 | AC37: 0 | AD37: 249 | AE37: 249 | AF37: 199 | AG37: 3229345 | AI37: 100003486 | AJ37: 0 | AK37: 0 | AL37: 249 | AM37: 249 | AN37: 199 | AO37: 4623327
A38: 32 | B38: ALFANI | C38: 100003532 | D38: 0 | E38: 68 | F38: 0 | G38: 0 | H38: 68 | I38: 0 | J38: 0 | K38: 0 | N38: 100003532 | O38: 0 | P38: 0 | Q38: 68 | R38: 68 | S38: 1902233 | T38: 0.36 | U38: =VLOOKUP(N38,'[2]154'!$C$9:$T$554,18,0) -> 68 | V38: 100003532 | W38: 0 | X38: 0 | Y38: 0 | AA38: 100003532 | AB38: 0 | AC38: 0 | AD38: 68 | AE38: 68 | AF38: 54 | AG38: 778886 | AI38: 100003532 | AJ38: 0 | AK38: 0 | AL38: 68 | AM38: 68 | AN38: 54 | AO38: 1123347
A39: 33 | B39: ALFANI | C39: 100003576 | D39: 0 | E39: 96 | F39: 0 | G39: 0 | H39: 96 | I39: 0 | J39: 0 | K39: 0 | N39: 100003576 | O39: 0 | P39: 0 | Q39: 96 | R39: 96 | S39: 1662915 | T39: 0.36 | U39: =VLOOKUP(N39,'[2]154'!$C$9:$T$554,18,0) -> 96 | V39: 100003576 | W39: 0 | X39: 0 | Y39: 0 | AA39: 100003576 | AB39: 0 | AC39: 0 | AD39: 96 | AE39: 96 | AF39: 77 | AG39: 703516 | AI39: 100003576 | AJ39: 0 | AK39: 0 | AL39: 96 | AM39: 96 | AN39: 77 | AO39: 959399
A40: 34 | B40: ALFANI | C40: 100004422 | D40: 0 | E40: 63 | F40: 0 | G40: 0 | H40: 63 | I40: 0 | J40: 0 | K40: 0 | N40: 100004422 | O40: 0 | P40: 0 | Q40: 63 | R40: 63 | S40: 1166158 | T40: 1.1 | U40: =VLOOKUP(N40,'[2]154'!$C$9:$T$554,18,0) -> 63 | V40: 100004422 | W40: 0 | X40: 0 | Y40: 0 | AA40: 100004422 | AB40: 0 | AC40: 0 | AD40: 63 | AE40: 63 | AF40: 50 | AG40: 493357 | AI40: 100004422 | AJ40: 0 | AK40: 0 | AL40: 63 | AM40: 63 | AN40: 50 | AO40: 672801
A41: 35 | B41: ALFANI | C41: 100004424 | D41: 0 | E41: 81 | F41: 0 | G41: 0 | H41: 81 | I41: 0 | J41: 0 | K41: 0 | N41: 100004424 | O41: 0 | P41: 0 | Q41: 81 | R41: 81 | S41: 1516005 | T41: 0.35 | U41: =VLOOKUP(N41,'[2]154'!$C$9:$T$554,18,0) -> 81 | V41: 100004424 | W41: 0 | X41: 0 | Y41: 0 | AA41: 100004424 | AB41: 0 | AC41: 0 | AD41: 81 | AE41: 81 | AF41: 65 | AG41: 641364 | AI41: 100004424 | AJ41: 0 | AK41: 0 | AL41: 81 | AM41: 81 | AN41: 65 | AO41: 874641
A42: 36 | B42: ALFANI | C42: 100005621 | D42: 0 | E42: 56 | F42: 0 | G42: 0 | H42: 56 | I42: 0 | J42: 0 | K42: 0 | N42: 100005621 | O42: 0 | P42: 0 | Q42: 56 | R42: 56 | S42: 3816515 | T42: 0.35 | U42: =VLOOKUP(N42,'[2]154'!$C$9:$T$554,18,0) -> 56 | V42: 100005621 | W42: 0 | X42: 0 | Y42: 0 | AA42: 100005621 | AB42: 0 | AC42: 0 | AD42: 56 | AE42: 56 | AF42: 45 | AG42: 1614622 | AI42: 100005621 | AJ42: 0 | AK42: 0 | AL42: 56 | AM42: 56 | AN42: 45 | AO42: 2201893
A43: 37 | B43: ALFANI | C43: 100005705 | D43: 5880 | E43: 352 | F43: 0 | G43: 69 | H43: 283 | I43: 0 | J43: 3 | K43: 3 | N43: 100005705 | O43: 0 | P43: 69 | Q43: 283 | R43: 352 | S43: 11455178 | T43: 2.77 | U43: =VLOOKUP(N43,'[2]154'!$C$9:$T$554,18,0) -> 1081 | V43: 100005705 | W43: 3 | X43: 42329.333 | Y43: 126988 | AA43: 100005705 | AB43: 0 | AC43: 69 | AD43: 283 | AE43: 352 | AF43: 261 | AG43: 4115074 | AI43: 100005705 | AJ43: 0 | AK43: 69 | AL43: 283 | AM43: 352 | AN43: 261 | AO43: 7340104
...

Sheet CUTTING ON JUNE
B2: =SUBTOTAL(9,B4:B316) -> 2216793 | C2: =SUBTOTAL(9,C4:C317) -> 2668730 | D2: =SUBTOTAL(9,D4:D316) -> 451937 | E2: =SUBTOTAL(9,E4:E316) -> 452384 | F2: =+E2-D2 -> 447
A3: STYLE | B3: ĐẦU KỲ | C3: TỔNG CẮT | D3: TĂNG CẮT | E3: TĂNG THỰC TẾ | F3: CHÊNH LỆCH
A4: 69717 | B4: 12331 | C4: 12331 | D4: =+C4-B4 -> 0 | E4: 0 | F4: =+E4-D4 -> 0
A5: 74211 | B5: 3960 | C5: 3960 | D5: =+C5-B5 -> 0 | E5: 0 | F5: =+E5-D5 -> 0
A6: 2072 | B6: 142225 | C6: 159688 | D6: =+C6-B6 -> 17463 | E6: 17463 | F6: =+E6-D6 -> 0
A7: KPT001611 | B7: 89849 | C7: 89849 | D7: =+C7-B7 -> 0 | E7: 0 | F7: =+E7-D7 -> 0
A8: KPT101081 | B8: 45884 | C8: =+B8+4453 -> 50337 | D8: =+C8-B8 -> 4453 | E8: 4453 | F8: =+E8-D8 -> 0
A9: 100004407 | B9: 14942 | C9: 14942 | D9: =+C9-B9 -> 0 | E9: 0 | F9: =+E9-D9 -> 0
A10: 68416 | B10: 2385 | C10: =+B10+32 -> 2417 | D10: =+C10-B10 -> 32 | E10: 32 | F10: =+E10-D10 -> 0
A11: 7X708 | B11: 7574 | C11: 7574 | D11: =+C11-B11 -> 0 | E11: 0 | F11: =+E11-D11 -> 0
A12: 100010579 | B12: 13189 | C12: =+B12+859 -> 14048 | D12: =+C12-B12 -> 859 | E12: 859 | F12: =+E12-D12 -> 0
A13: 100003227 | B13: 10247 | C13: 10247 | D13: =+C13-B13 -> 0 | E13: 0 | F13: =+E13-D13 -> 0
A14: 100005705 | B14: 5880 | C14: 5880 | D14: =+C14-B14 -> 0 | E14: 0 | F14: =+E14-D14 -> 0
A15: 100008197 | B15: 9784 | C15: 9784 | D15: =+C15-B15 -> 0 | E15: 0 | F15: =+E15-D15 -> 0
A16: 2335 | B16: 23823 | C16: 23823 | D16: =+C16-B16 -> 0 | E16: 0 | F16: =+E16-D16 -> 0
A17: 7220 | B17: 5987 | C17: 5987 | D17: =+C17-B17 -> 0 | E17: 0 | F17: =+E17-D17 -> 0
A18: 6D398 | B18: 11576 | C18: =21642+6 -> 21648 | D18: =+C18-B18 -> 10072 | E18: 10072 | F18: =+E18-D18 -> 0
A19: 100003506 | B19: 0 | C19: 3080 | D19: =+C19-B19 -> 3080 | E19: 3080 | F19: =+E19-D19 -> 0
A20: 100009597 | B20: 17282 | C20: 17282 | D20: =+C20-B20 -> 0 | E20: 0 | F20: =+E20-D20 -> 0
A21: 74401 | B21: 11001 | C21: 11006 | D21: =+C21-B21 -> 5 | E21: 5 | F21: =+E21-D21 -> 0
A22: 100007764 | B22: 57594 | C22: 57594 | D22: =+C22-B22 -> 0 | E22: 0 | F22: =+E22-D22 -> 0
A23: KPT128561 | B23: 136100 | C23: =+B23+1036 -> 137136 | D23: =+C23-B23 -> 1036 | E23: 1036 | F23: =+E23-D23 -> 0
A24: 100003599 | B24: 0 | C24: 4614 | D24: =+C24-B24 -> 4614 | E24: 4614 | F24: =+E24-D24 -> 0
A25: 69216 | B25: 160 | C25: 160 | D25: =+C25-B25 -> 0 | E25: 0 | F25: =+E25-D25 -> 0
