Workbook
Name danhmuc: danhmuc!$C$4:$C$79
Name sophieu: nhapdulieu!$J$15:$J$67
Name TENCHITIET: danhmuc!$C$4:$C$122

Sheet home
A3: Xuất Nhập Tồn
A4: Ngày | C4: Tháng | E4: Năm
A5: =DAY(TODAY()) -> 1 | C5: =MONTH(TODAY()) -> 1 | E5: =YEAR(TODAY()) -> 2004
A7: Nhập Dữ Liệu | C7: Tồn Ngày | E7: Bổ sung Danh Mục DK
C8: Thẻ kho | E8: in ấn

Sheet nhapdulieu
G6: Home | I6: Ngày Làm Thẻ Kho | K6: Mã hàng | L6: Mặt hàng
I7: Từ ngày | J7: =thekho!E8 -> 41641 | K7: =thekho!C10 -> HH-T027NL | L7: =thekho!D11 -> chân 743 tròn
G8: Số phiếu hiện tại | I8: Đến Ngày | J8: =thekho!E9 -> 41761
I9: Ngày Làm tồn kho
A10: ='in an'!G6 -> X001 | I10: Từ Ngày | J10: 41641
I11: Đến Ngày | J11: 41822 | N11: =IF(O11="","",VLOOKUP(O11,danhmuc!E1:I75,5,0))
G13: Thông Tin Xuất Nhập | Q13: TT vận chuyển
C14: Trung gian tinh ton kho | D14: Stt N | E14: N-X-Mã hh | F14: STT | G14: Ngày | H14: Tháng | I14: Năm | J14: Số phiếu | K14: Tên Cty | L14: Mã | M14: Tên HH | N14: Quy Cach | O14: Nhập/ Xuất | P14: Số lượng | Q14: Số Chuyến | R14: Số xe
A15: =IF(J15=$A$10,1+MAX($A$14:A14),"") | B15: =IF(L15="","",IF(AND(DATE(I15,H15,G15)>=$J$10,DATE(I15,H15,G15)<=$J$11,L15=$K$7),1+MAX($B$14:B14),"")) | C15: =IF(L15="","",IF(DATE(I15,H15,G15)>$J$10,O15&L15,"")) -> NBO90*20 | D15: =IF(E15="","",1+MAX($D$14,D14)) -> 1 | E15: =IF(L15="","",IF(AND(DATE(I15,H15,G15)>=$J$10,DATE(I15,H15,G15)<=$J$11),O15&L15,"")) -> NBO90*20 | F15: =IF(M15="","",1+MAX($F$14,F14)) -> 1 | G15: 1 | H15: 2 | I15: 2014 | J15: N01 | K15: CT-Hp | L15: =IF(M15="","",VLOOKUP(M15,danhmuc!$C$5:$G$200,5,0)) -> BO90*20 | M15: Bọ tam giác 90*20*70 | N15: =IF(M15="","",VLOOKUP(M15,danhmuc!$C$5:$G$122,2,0)) -> 90*20*70 | O15: N | P15: 200 | Q15: 1 | R15: 54 V5835(A-L)
A16: =IF(J16=$A$10,1+MAX($A$14:A15),"") | B16: =IF(L16="","",IF(AND(DATE(I16,H16,G16)>=$J$10,DATE(I16,H16,G16)<=$J$11,L16=$K$7),1+MAX($B$14:B15),"")) | C16: =IF(L16="","",IF(DATE(I16,H16,G16)>$J$10,O16&L16,"")) -> XBÀN HS wh | D16: =IF(E16="","",1+MAX($D$14,D15)) -> 2 | E16: =IF(L16="","",IF(AND(DATE(I16,H16,G16)>=$J$10,DATE(I16,H16,G16)<=$J$11),O16&L16,"")) -> XBÀN HS wh | F16: =IF(M16="","",1+MAX($F$14,F15)) -> 2 | G16: 2 | H16: 2 | I16: 2014 | J16: X01 | K16: KDHP | L16: =IF(M16="","",VLOOKUP(M16,danhmuc!$C$5:$G$200,5,0)) -> BÀN HS wh | M16: CHÂN BÀN HS wh | N16: =IF(M16="","",VLOOKUP(M16,danhmuc!$C$5:$G$122,2,0)) -> 0 | O16: X | P16: 100 | Q16: 1 | R16: 55 V5835(A-L)
A17: =IF(J17=$A$10,1+MAX($A$14:A16),"") | B17: =IF(L17="","",IF(AND(DATE(I17,H17,G17)>=$J$10,DATE(I17,H17,G17)<=$J$11,L17=$K$7),1+MAX($B$14:B16),"")) | C17: =IF(L17="","",IF(DATE(I17,H17,G17)>$J$10,O17&L17,"")) -> NGHE HS | D17: =IF(E17="","",1+MAX($D$14,D16)) -> 3 | E17: =IF(L17="","",IF(AND(DATE(I17,H17,G17)>=$J$10,DATE(I17,H17,G17)<=$J$11),O17&L17,"")) -> NGHE HS | F17: =IF(M17="","",1+MAX($F$14,F16)) -> 3 | G17: 3 | H17: 2 | I17: 2014 | J17: N02 | K17: ct hp | L17: =IF(M17="","",VLOOKUP(M17,danhmuc!$C$5:$G$200,5,0)) -> GHE HS | M17: CHÂN GHẾ HS | N17: =IF(M17="","",VLOOKUP(M17,danhmuc!$C$5:$G$122,2,0)) -> 0 | O17: N | P17: 100
A18: =IF(J18=$A$10,1+MAX($A$14:A17),"") | B18: =IF(L18="","",IF(AND(DATE(I18,H18,G18)>=$J$10,DATE(I18,H18,G18)<=$J$11,L18=$K$7),1+MAX($B$14:B17),"")) | C18: =IF(L18="","",IF(DATE(I18,H18,G18)>$J$10,O18&L18,"")) -> XHH-#2217T N/3 | D18: =IF(E18="","",1+MAX($D$14,D17)) -> 4 | E18: =IF(L18="","",IF(AND(DATE(I18,H18,G18)>=$J$10,DATE(I18,H18,G18)<=$J$11),O18&L18,"")) -> XHH-#2217T N/3 | F18: =IF(M18="","",1+MAX($F$14,F17)) -> 4 | G18: 7 | H18: 2 | I18: 2014 | J18: X02 | K18: cthp | L18: =IF(M18="","",VLOOKUP(M18,danhmuc!$C$5:$G$200,5,0)) -> HH-#2217T N/3 | M18: Nẹp cuộn giấy BÀN HS wh | N18: =IF(M18="","",VLOOKUP(M18,danhmuc!$C$5:$G$122,2,0)) -> 0 | O18: X | P18: 20
A19: =IF(J19=$A$10,1+MAX($A$14:A18),"") | B19: =IF(L19="","",IF(AND(DATE(I19,H19,G19)>=$J$10,DATE(I19,H19,G19)<=$J$11,L19=$K$7),1+MAX($B$14:B18),"")) | C19: =IF(L19="","",IF(DATE(I19,H19,G19)>$J$10,O19&L19,"")) -> NBE-PKBOPN | E19: =IF(L19="","",IF(AND(DATE(I19,H19,G19)>=$J$10,DATE(I19,H19,G19)<=$J$11),O19&L19,"")) | F19: =IF(M19="","",1+MAX($F$14,F18)) -> 5 | G19: 3 | H19: 11 | I19: 2014 | J19: N001 | K19: HP-HP | L19: =IF(M19="","",VLOOKUP(M19,danhmuc!$C$5:$G$200,5,0)) -> BE-PKBOPN | M19: CHÂN BÀN GỖ THÔNG. | N19: =IF(M19="","",VLOOKUP(M19,danhmuc!$C$5:$G$122,2,0)) -> 65*65*440 | O19: N | P19: 144
A20: =IF(J20=$A$10,1+MAX($A$14:A19),"") | B20: =IF(L20="","",IF(AND(DATE(I20,H20,G20)>=$J$10,DATE(I20,H20,G20)<=$J$11,L20=$K$7),1+MAX($B$14:B19),"")) | C20: =IF(L20="","",IF(DATE(I20,H20,G20)>$J$10,O20&L20,"")) -> NCT-PKBOPN | E20: =IF(L20="","",IF(AND(DATE(I20,H20,G20)>=$J$10,DATE(I20,H20,G20)<=$J$11),O20&L20,"")) | F20: =IF(M20="","",1+MAX($F$14,F19)) -> 6 | G20: 3 | H20: 11 | I20: 2014 | J20: N002 | K20: HP-HP | L20: =IF(M20="","",VLOOKUP(M20,danhmuc!$C$5:$G$200,5,0)) -> CT-PKBOPN | M20: CHÂN BÀN GỖ THÔNG.. | N20: =IF(M20="","",VLOOKUP(M20,danhmuc!$C$5:$G$122,2,0)) -> 65*65*470 | O20: N | P20: 312
A21: =IF(J21=$A$10,1+MAX($A$14:A20),"") | B21: =IF(L21="","",IF(AND(DATE(I21,H21,G21)>=$J$10,DATE(I21,H21,G21)<=$J$11,L21=$K$7),1+MAX($B$14:B20),"")) | C21: =IF(L21="","",IF(DATE(I21,H21,G21)>$J$10,O21&L21,"")) -> NET-PKBOPN | E21: =IF(L21="","",IF(AND(DATE(I21,H21,G21)>=$J$10,DATE(I21,H21,G21)<=$J$11),O21&L21,"")) | F21: =IF(M21="","",1+MAX($F$14,F20)) -> 7 | G21: 3 | H21: 11 | I21: 2014 | J21: N003 | K21: HP-HP | L21: =IF(M21="","",VLOOKUP(M21,danhmuc!$C$5:$G$200,5,0)) -> ET-PKBOPN | M21: CHÂN BÀN GỖ THÔNG… | N21: =IF(M21="","",VLOOKUP(M21,danhmuc!$C$5:$G$122,2,0)) -> 65*65*600 | O21: N | P21: 920
A22: =IF(J22=$A$10,1+MAX($A$14:A21),"") | B22: =IF(L22="","",IF(AND(DATE(I22,H22,G22)>=$J$10,DATE(I22,H22,G22)<=$J$11,L22=$K$7),1+MAX($B$14:B21),"")) | C22: =IF(L22="","",IF(DATE(I22,H22,G22)>$J$10,O22&L22,"")) -> NST-PKBOPN | E22: =IF(L22="","",IF(AND(DATE(I22,H22,G22)>=$J$10,DATE(I22,H22,G22)<=$J$11),O22&L22,"")) | F22: =IF(M22="","",1+MAX($F$14,F21)) -> 8 | G22: 3 | H22: 11 | I22: 2014 | J22: N004 | K22: HP-HP | L22: =IF(M22="","",VLOOKUP(M22,danhmuc!$C$5:$G$200,5,0)) -> ST-PKBOPN | M22: CHÂN BÀN GỖ THÔNG…. | N22: =IF(M22="","",VLOOKUP(M22,danhmuc!$C$5:$G$122,2,0)) -> 65*65*740 | O22: N | P22: 84
A23: =IF(J23=$A$10,1+MAX($A$14:A22),"") -> 1 | B23: =IF(L23="","",IF(AND(DATE(I23,H23,G23)>=$J$10,DATE(I23,H23,G23)<=$J$11,L23=$K$7),1+MAX($B$14:B22),"")) | C23: =IF(L23="","",IF(DATE(I23,H23,G23)>$J$10,O23&L23,"")) -> XBE-PKBOPN | E23: =IF(L23="","",IF(AND(DATE(I23,H23,G23)>=$J$10,DATE(I23,H23,G23)<=$J$11),O23&L23,"")) | F23: =IF(M23="","",1+MAX($F$14,F22)) -> 9 | G23: 3 | H23: 11 | I23: 2014 | J23: X001 | K23: HP-TVN | L23: =IF(M23="","",VLOOKUP(M23,danhmuc!$C$5:$G$200,5,0)) -> BE-PKBOPN | M23: CHÂN BÀN GỖ THÔNG. | N23: =IF(M23="","",VLOOKUP(M23,danhmuc!$C$5:$G$122,2,0)) -> 65*65*440 | O23: X | P23: 144 | R23: a THIÊN
A24: =IF(J24=$A$10,1+MAX($A$14:A23),"") | B24: =IF(L24="","",IF(AND(DATE(I24,H24,G24)>=$J$10,DATE(I24,H24,G24)<=$J$11,L24=$K$7),1+MAX($B$14:B23),"")) | C24: =IF(L24="","",IF(DATE(I24,H24,G24)>$J$10,O24&L24,"")) -> XCT-PKBOPN | E24: =IF(L24="","",IF(AND(DATE(I24,H24,G24)>=$J$10,DATE(I24,H24,G24)<=$J$11),O24&L24,"")) | F24: =IF(M24="","",1+MAX($F$14,F23)) -> 10 | G24: 3 | H24: 11 | I24: 2014 | J24: X002 | K24: HP-TVN | L24: =IF(M24="","",VLOOKUP(M24,danhmuc!$C$5:$G$200,5,0)) -> CT-PKBOPN | M24: CHÂN BÀN GỖ THÔNG.. | N24: =IF(M24="","",VLOOKUP(M24,danhmuc!$C$5:$G$122,2,0)) -> 65*65*470 | O24: X | P24: 312
A25: =IF(J25=$A$10,1+MAX($A$14:A24),"") | B25: =IF(L25="","",IF(AND(DATE(I25,H25,G25)>=$J$10,DATE(I25,H25,G25)<=$J$11,L25=$K$7),1+MAX($B$14:B24),"")) | C25: =IF(L25="","",IF(DATE(I25,H25,G25)>$J$10,O25&L25,"")) -> XET-PKBOPN | E25: =IF(L25="","",IF(AND(DATE(I25,H25,G25)>=$J$10,DATE(I25,H25,G25)<=$J$11),O25&L25,"")) | F25: =IF(M25="","",1+MAX($F$14,F24)) -> 11 | G25: 3 | H25: 11 | I25: 2014 | J25: X003 | K25: HP-TVN | L25: =IF(M25="","",VLOOKUP(M25,danhmuc!$C$5:$G$200,5,0)) -> ET-PKBOPN | M25: CHÂN BÀN GỖ THÔNG… | N25: =IF(M25="","",VLOOKUP(M25,danhmuc!$C$5:$G$122,2,0)) -> 65*65*600 | O25: X | P25: 920
A26: =IF(J26=$A$10,1+MAX($A$14:A25),"") | B26: =IF(L26="","",IF(AND(DATE(I26,H26,G26)>=$J$10,DATE(I26,H26,G26)<=$J$11,L26=$K$7),1+MAX($B$14:B25),"")) | C26: =IF(L26="","",IF(DATE(I26,H26,G26)>$J$10,O26&L26,"")) -> XST-PKBOPN | E26: =IF(L26="","",IF(AND(DATE(I26,H26,G26)>=$J$10,DATE(I26,H26,G26)<=$J$11),O26&L26,"")) | F26: =IF(M26="","",1+MAX($F$14,F25)) -> 12 | G26: 3 | H26: 11 | I26: 2014 | J26: X004 | K26: HP-TVN | L26: =IF(M26="","",VLOOKUP(M26,danhmuc!$C$5:$G$200,5,0)) -> ST-PKBOPN | M26: CHÂN BÀN GỖ THÔNG…. | N26: =IF(M26="","",VLOOKUP(M26,danhmuc!$C$5:$G$122,2,0)) -> 65*65*740 | O26: X | P26: 84
A27: =IF(J27=$A$10,1+MAX($A$14:A26),"") | B27: =IF(L27="","",IF(AND(DATE(I27,H27,G27)>=$J$10,DATE(I27,H27,G27)<=$J$11,L27=$K$7),1+MAX($B$14:B26),"")) | C27: =IF(L27="","",IF(DATE(I27,H27,G27)>$J$10,O27&L27,"")) | E27: =IF(L27="","",IF(AND(DATE(I27,H27,G27)>=$J$10,DATE(I27,H27,G27)<=$J$11),O27&L27,"")) | F27: =IF(M27="","",1+MAX($F$14,F26)) | L27: =IF(M27="","",VLOOKUP(M27,danhmuc!$C$5:$G$200,5,0)) | N27: =IF(M27="","",VLOOKUP(M27,danhmuc!$C$5:$G$122,2,0))
A28: =IF(J28=$A$10,1+MAX($A$14:A27),"") | B28: =IF(L28="","",IF(AND(DATE(I28,H28,G28)>=$J$10,DATE(I28,H28,G28)<=$J$11,L28=$K$7),1+MAX($B$14:B27),"")) | C28: =IF(L28="","",IF(DATE(I28,H28,G28)>$J$10,O28&L28,"")) | E28: =IF(L28="","",IF(AND(DATE(I28,H28,G28)>=$J$10,DATE(I28,H28,G28)<=$J$11),O28&L28,"")) | F28: =IF(M28="","",1+MAX($F$14,F27)) | L28: =IF(M28="","",VLOOKUP(M28,danhmuc!$C$5:$G$200,5,0)) | N28: =IF(M28="","",VLOOKUP(M28,danhmuc!$C$5:$G$122,2,0))
A29: =IF(J29=$A$10,1+MAX($A$14:A28),"") | B29: =IF(L29="","",IF(AND(DATE(I29,H29,G29)>=$J$10,DATE(I29,H29,G29)<=$J$11,L29=$K$7),1+MAX($B$14:B28),"")) | C29: =IF(L29="","",IF(DATE(I29,H29,G29)>$J$10,O29&L29,"")) | E29: =IF(L29="","",IF(AND(DATE(I29,H29,G29)>=$J$10,DATE(I29,H29,G29)<=$J$11),O29&L29,"")) | F29: =IF(M29="","",1+MAX($F$14,F28)) | L29: =IF(M29="","",VLOOKUP(M29,danhmuc!$C$5:$G$200,5,0)) | N29: =IF(M29="","",VLOOKUP(M29,danhmuc!$C$5:$G$122,2,0))
A30: =IF(J30=$A$10,1+MAX($A$14:A29),"") | B30: =IF(L30="","",IF(AND(DATE(I30,H30,G30)>=$J$10,DATE(I30,H30,G30)<=$J$11,L30=$K$7),1+MAX($B$14:B29),"")) | C30: =IF(L30="","",IF(DATE(I30,H30,G30)>$J$10,O30&L30,"")) | E30: =IF(L30="","",IF(AND(DATE(I30,H30,G30)>=$J$10,DATE(I30,H30,G30)<=$J$11),O30&L30,"")) | F30: =IF(M30="","",1+MAX($F$14,F29)) | L30: =IF(M30="","",VLOOKUP(M30,danhmuc!$C$5:$G$200,5,0)) | N30: =IF(M30="","",VLOOKUP(M30,danhmuc!$C$5:$G$122,2,0))
A31: =IF(J31=$A$10,1+MAX($A$14:A30),"") | B31: =IF(L31="","",IF(AND(DATE(I31,H31,G31)>=$J$10,DATE(I31,H31,G31)<=$J$11,L31=$K$7),1+MAX($B$14:B30),"")) | C31: =IF(L31="","",IF(DATE(I31,H31,G31)>$J$10,O31&L31,"")) | E31: =IF(L31="","",IF(AND(DATE(I31,H31,G31)>=$J$10,DATE(I31,H31,G31)<=$J$11),O31&L31,"")) | F31: =IF(M31="","",1+MAX($F$14,F30)) | L31: =IF(M31="","",VLOOKUP(M31,danhmuc!$C$5:$G$200,5,0)) | N31: =IF(M31="","",VLOOKUP(M31,danhmuc!$C$5:$G$122,2,0))
A32: =IF(J32=$A$10,1+MAX($A$14:A31),"") | B32: =IF(L32="","",IF(AND(DATE(I32,H32,G32)>=$J$10,DATE(I32,H32,G32)<=$J$11,L32=$K$7),1+MAX($B$14:B31),"")) | C32: =IF(L32="","",IF(DATE(I32,H32,G32)>$J$10,O32&L32,"")) | E32: =IF(L32="","",IF(AND(DATE(I32,H32,G32)>=$J$10,DATE(I32,H32,G32)<=$J$11),O32&L32,"")) | F32: =IF(M32="","",1+MAX($F$14,F31)) | L32: =IF(M32="","",VLOOKUP(M32,danhmuc!$C$5:$G$200,5,0)) | N32: =IF(M32="","",VLOOKUP(M32,danhmuc!$C$5:$G$122,2,0))
A33: =IF(J33=$A$10,1+MAX($A$14:A32),"") | B33: =IF(L33="","",IF(AND(DATE(I33,H33,G33)>=$J$10,DATE(I33,H33,G33)<=$J$11,L33=$K$7),1+MAX($B$14:B32),"")) | C33: =IF(L33="","",IF(DATE(I33,H33,G33)>$J$10,O33&L33,"")) | E33: =IF(L33="","",IF(AND(DATE(I33,H33,G33)>=$J$10,DATE(I33,H33,G33)<=$J$11),O33&L33,"")) | F33: =IF(M33="","",1+MAX($F$14,F32)) | L33: =IF(M33="","",VLOOKUP(M33,danhmuc!$C$5:$G$200,5,0)) | N33: =IF(M33="","",VLOOKUP(M33,danhmuc!$C$5:$G$122,2,0))
A34: =IF(J34=$A$10,1+MAX($A$14:A33),"") | B34: =IF(L34="","",IF(AND(DATE(I34,H34,G34)>=$J$10,DATE(I34,H34,G34)<=$J$11,L34=$K$7),1+MAX($B$14:B33),"")) | C34: =IF(L34="","",IF(DATE(I34,H34,G34)>$J$10,O34&L34,"")) | E34: =IF(L34="","",IF(AND(DATE(I34,H34,G34)>=$J$10,DATE(I34,H34,G34)<=$J$11),O34&L34,"")) | F34: =IF(M34="","",1+MAX($F$14,F33)) | L34: =IF(M34="","",VLOOKUP(M34,danhmuc!$C$5:$G$200,5,0)) | N34: =IF(M34="","",VLOOKUP(M34,danhmuc!$C$5:$G$122,2,0))
A35: =IF(J35=$A$10,1+MAX($A$14:A34),"") | B35: =IF(L35="","",IF(AND(DATE(I35,H35,G35)>=$J$10,DATE(I35,H35,G35)<=$J$11,L35=$K$7),1+MAX($B$14:B34),"")) | C35: =IF(L35="","",IF(DATE(I35,H35,G35)>$J$10,O35&L35,"")) | E35: =IF(L35="","",IF(AND(DATE(I35,H35,G35)>=$J$10,DATE(I35,H35,G35)<=$J$11),O35&L35,"")) | F35: =IF(M35="","",1+MAX($F$14,F34)) | L35: =IF(M35="","",VLOOKUP(M35,danhmuc!$C$5:$G$200,5,0)) | N35: =IF(M35="","",VLOOKUP(M35,danhmuc!$C$5:$G$122,2,0))
A36: =IF(J36=$A$10,1+MAX($A$14:A35),"") | B36: =IF(L36="","",IF(AND(DATE(I36,H36,G36)>=$J$10,DATE(I36,H36,G36)<=$J$11,L36=$K$7),1+MAX($B$14:B35),"")) | C36: =IF(L36="","",IF(DATE(I36,H36,G36)>$J$10,O36&L36,"")) | E36: =IF(L36="","",IF(AND(DATE(I36,H36,G36)>=$J$10,DATE(I36,H36,G36)<=$J$11),O36&L36,"")) | F36: =IF(M36="","",1+MAX($F$14,F35)) | L36: =IF(M36="","",VLOOKUP(M36,danhmuc!$C$5:$G$200,5,0)) | N36: =IF(M36="","",VLOOKUP(M36,danhmuc!$C$5:$G$122,2,0))
A37: =IF(J37=$A$10,1+MAX($A$14:A36),"") | B37: =IF(L37="","",IF(AND(DATE(I37,H37,G37)>=$J$10,DATE(I37,H37,G37)<=$J$11,L37=$K$7),1+MAX($B$14:B36),"")) | C37: =IF(L37="","",IF(DATE(I37,H37,G37)>$J$10,O37&L37,"")) | E37: =IF(L37="","",IF(AND(DATE(I37,H37,G37)>=$J$10,DATE(I37,H37,G37)<=$J$11),O37&L37,"")) | F37: =IF(M37="","",1+MAX($F$14,F36)) | L37: =IF(M37="","",VLOOKUP(M37,danhmuc!$C$5:$G$200,5,0)) | N37: =IF(M37="","",VLOOKUP(M37,danhmuc!$C$5:$G$122,2,0))
A38: =IF(J38=$A$10,1+MAX($A$14:A37),"") | B38: =IF(L38="","",IF(AND(DATE(I38,H38,G38)>=$J$10,DATE(I38,H38,G38)<=$J$11,L38=$K$7),1+MAX($B$14:B37),"")) | C38: =IF(L38="","",IF(DATE(I38,H38,G38)>$J$10,O38&L38,"")) | E38: =IF(L38="","",IF(AND(DATE(I38,H38,G38)>=$J$10,DATE(I38,H38,G38)<=$J$11),O38&L38,"")) | F38: =IF(M38="","",1+MAX($F$14,F37)) | L38: =IF(M38="","",VLOOKUP(M38,danhmuc!$C$5:$G$200,5,0)) | N38: =IF(M38="","",VLOOKUP(M38,danhmuc!$C$5:$G$122,2,0))
... A67: =IF(J67=$A$10,1+MAX($A$14:A66),"") | B67: =IF(L67="","",IF(AND(DATE(I67,H67,G67)>=$J$10,DATE(I67,H67,G67)<=$J$11,L67=$K$7),1+MAX($B$14:B66),"")) | C67: =IF(L67="","",IF(DATE(I67,H67,G67)>$J$10,O67&L67,"")) | E67: =IF(L67="","",IF(AND(DATE(I67,H67,G67)>=$J$10,DATE(I67,H67,G67)<=$J$11),O67&L67,"")) | F67: =IF(M67="","",1+MAX($F$14,F66)) | L67: =IF(M67="","",VLOOKUP(M67,danhmuc!$C$5:$G$200,5,0)) | N67: =IF(M67="","",VLOOKUP(M67,danhmuc!$C$5:$G$122,2,0))
A68: =MAX(A15:A67) -> 1 | D68: =MAX(D15:D67) -> 4 | F68: =MAX(F15:F67) -> 12
B69: 1 | C69: 2 | D69: 3 | E69: 4 | F69: 5 | G69: 6 | H69: 7 | I69: 8 | J69: 9 | K69: 10 | L69: 11 | M69: 12 | N69: 13 | O69: 14 | P69: 15 | Q69: 16 | R69: 17 | S69: 18

Sheet tonkho
A1: Công Ty TNHH Sx TM Hoàng Phát
A2: Đông Chiêu - Tân Đông Hiệp - Dĩ An Bình Dương
A3: SDT : 0650.3.730.053 Fax: 0650.3730.053
D5: Tồn Kho
B6: thekho
B7: home
B8: Từ Ngày | C8: 41641
A9: =nhapdulieu!D68 -> 4 | B9: Đến Ngày | C9: 41761
B10: Bảng Chi Tiết Xuất Nhập
B11: Mả Hàng | C11: Tên Hàng | D11: Quy Cách | E11: Dvt | F11: TỒN DK | G11: Lượng Nhập | H11: Lượng Xuất | I11: Tồn Cuối
A12: =IF(ROW(A1)>$A$9,"",ROW(A1)) -> 1 | B12: =IF(A12="","",VLOOKUP(A12,nhapdulieu!D15:R67,9,0)) -> BO90*20 | C12: =IF(A12="","",VLOOKUP(A12,nhapdulieu!D15:S67,10,0)) -> Bọ tam giác 90*20*70 | D12: =IF(A12="","",VLOOKUP(C12,danhmuc!$C$5:$G$460,2,0)) -> 90*20*70 | E12: =IF(A12="","",VLOOKUP(C12,danhmuc!$C$5:$G$122,3,0)) -> pcs | F12: =IF(A12="","",VLOOKUP(B12,danhmuc!$G$5:$H$200,2,0)+SUMIF(nhapdulieu!$C$15:$C$67,"N"&tonkho!B12,nhapdulieu!$P$15:$P$67)-SUMIF(nhapdulieu!$C$15:$C$67,"X"&tonkho!B12,nhapdulieu!$P$15:$P$67)) -> 200 | G12: =SUMIF(nhapdulieu!$E$15:$E$241,"N"&tonkho!B12,nhapdulieu!$P$15:$P$241) -> 200 | H12: =SUMIF(nhapdulieu!$E$15:$E$241,"x"&tonkho!B12,nhapdulieu!$P$15:$P$241) -> 0 | I12: =IF(A12="","",F12+G12-H12) -> 400
A13: =IF(ROW(A2)>$A$9,"",ROW(A2)) -> 2 | B13: =IF(A13="","",VLOOKUP(A13,nhapdulieu!D16:R68,9,0)) -> BÀN HS wh | C13: =IF(A13="","",VLOOKUP(A13,nhapdulieu!D16:S68,10,0)) -> CHÂN BÀN HS wh | D13: =IF(A13="","",VLOOKUP(C13,danhmuc!$C$5:$G$460,2,0)) -> 0 | E13: =IF(A13="","",VLOOKUP(C13,danhmuc!$C$5:$G$122,3,0)) -> pcs | F13: =IF(A13="","",VLOOKUP(B13,danhmuc!$G$5:$H$200,2,0)+SUMIF(nhapdulieu!$C$15:$C$67,"N"&tonkho!B13,nhapdulieu!$P$15:$P$67)-SUMIF(nhapdulieu!$C$15:$C$67,"X"&tonkho!B13,nhapdulieu!$P$15:$P$67)) -> -98 | G13: =SUMIF(nhapdulieu!$E$15:$E$241,"N"&tonkho!B13,nhapdulieu!$P$15:$P$241) -> 0 | H13: =SUMIF(nhapdulieu!$E$15:$E$241,"x"&tonkho!B13,nhapdulieu!$P$15:$P$241) -> 100 | I13: =IF(A13="","",F13+G13-H13) -> -198
A14: =IF(ROW(A3)>$A$9,"",ROW(A3)) -> 3 | B14: =IF(A14="","",VLOOKUP(A14,nhapdulieu!D17:R69,9,0)) -> GHE HS | C14: =IF(A14="","",VLOOKUP(A14,nhapdulieu!D17:S69,10,0)) -> CHÂN GHẾ HS | D14: =IF(A14="","",VLOOKUP(C14,danhmuc!$C$5:$G$460,2,0)) -> 0 | E14: =IF(A14="","",VLOOKUP(C14,danhmuc!$C$5:$G$122,3,0)) -> PCS | F14: =IF(A14="","",VLOOKUP(B14,danhmuc!$G$5:$H$200,2,0)+SUMIF(nhapdulieu!$C$15:$C$67,"N"&tonkho!B14,nhapdulieu!$P$15:$P$67)-SUMIF(nhapdulieu!$C$15:$C$67,"X"&tonkho!B14,nhapdulieu!$P$15:$P$67)) -> 106 | G14: =SUMIF(nhapdulieu!$E$15:$E$241,"N"&tonkho!B14,nhapdulieu!$P$15:$P$241) -> 100 | H14: =SUMIF(nhapdulieu!$E$15:$E$241,"x"&tonkho!B14,nhapdulieu!$P$15:$P$241) -> 0 | I14: =IF(A14="","",F14+G14-H14) -> 206
A15: =IF(ROW(A4)>$A$9,"",ROW(A4)) -> 4 | B15: =IF(A15="","",VLOOKUP(A15,nhapdulieu!D18:R70,9,0)) -> HH-#2217T N/3 | C15: =IF(A15="","",VLOOKUP(A15,nhapdulieu!D18:S70,10,0)) -> Nẹp cuộn giấy BÀN HS wh | D15: =IF(A15="","",VLOOKUP(C15,danhmuc!$C$5:$G$460,2,0)) -> 0 | E15: =IF(A15="","",VLOOKUP(C15,danhmuc!$C$5:$G$122,3,0)) -> pcs | F15: =IF(A15="","",VLOOKUP(B15,danhmuc!$G$5:$H$200,2,0)+SUMIF(nhapdulieu!$C$15:$C$67,"N"&tonkho!B15,nhapdulieu!$P$15:$P$67)-SUMIF(nhapdulieu!$C$15:$C$67,"X"&tonkho!B15,nhapdulieu!$P$15:$P$67)) -> -20 | G15: =SUMIF(nhapdulieu!$E$15:$E$241,"N"&tonkho!B15,nhapdulieu!$P$15:$P$241) -> 0 | H15: =SUMIF(nhapdulieu!$E$15:$E$241,"x"&tonkho!B15,nhapdulieu!$P$15:$P$241) -> 20 | I15: =IF(A15="","",F15+G15-H15) -> -40
A16: =IF(ROW(A5)>$A$9,"",ROW(A5)) | B16: =IF(A16="","",VLOOKUP(A16,nhapdulieu!D19:R71,9,0)) | C16: =IF(A16="","",VLOOKUP(A16,nhapdulieu!D19:S71,10,0)) | D16: =IF(A16="","",VLOOKUP(C16,danhmuc!$C$5:$G$460,2,0)) | E16: =IF(A16="","",VLOOKUP(C16,danhmuc!$C$5:$G$122,3,0)) | F16: =IF(A16="","",VLOOKUP(B16,danhmuc!$G$5:$H$200,2,0)+SUMIF(nhapdulieu!$C$15:$C$67,"N"&tonkho!B16,nhapdulieu!$P$15:$P$67)-SUMIF(nhapdulieu!$C$15:$C$67,"X"&tonkho!B16,nhapdulieu!$P$15:$P$67)) | G16: =SUMIF(nhapdulieu!$E$15:$E$241,"N"&tonkho!B16,nhapdulieu!$P$15:$P$241) -> 0 | H16: =SUMIF(nhapdulieu!$E$15:$E$241,"x"&tonkho!B16,nhapdulieu!$P$15:$P$241) -> 0 | I16: =IF(A16="","",F16+G16-H16)
A17: =IF(ROW(A6)>$A$9,"",ROW(A6)) | B17: =IF(A17="","",VLOOKUP(A17,nhapdulieu!D20:R72,9,0)) | C17: =IF(A17="","",VLOOKUP(A17,nhapdulieu!D20:S72,10,0)) | D17: =IF(A17="","",VLOOKUP(C17,danhmuc!$C$5:$G$460,2,0)) | E17: =IF(A17="","",VLOOKUP(C17,danhmuc!$C$5:$G$122,3,0)) | F17: =IF(A17="","",VLOOKUP(B17,danhmuc!$G$5:$H$200,2,0)+SUMIF(nhapdulieu!$C$15:$C$67,"N"&tonkho!B17,nhapdulieu!$P$15:$P$67)-SUMIF(nhapdulieu!$C$15:$C$67,"X"&tonkho!B17,nhapdulieu!$P$15:$P$67)) | G17: =SUMIF(nhapdulieu!$E$15:$E$241,"N"&tonkho!B17,nhapdulieu!$P$15:$P$241) -> 0 | H17: =SUMIF(nhapdulieu!$E$15:$E$241,"x"&tonkho!B17,nhapdulieu!$P$15:$P$241) -> 0 | I17: =IF(A17="","",F17+G17-H17)
A18: =IF(ROW(A7)>$A$9,"",ROW(A7)) | B18: =IF(A18="","",VLOOKUP(A18,nhapdulieu!D21:R73,9,0)) | C18: =IF(A18="","",VLOOKUP(A18,nhapdulieu!D21:S73,10,0)) | D18: =IF(A18="","",VLOOKUP(C18,danhmuc!$C$5:$G$460,2,0)) | E18: =IF(A18="","",VLOOKUP(C18,danhmuc!$C$5:$G$122,3,0)) | F18: =IF(A18="","",VLOOKUP(B18,danhmuc!$G$5:$H$200,2,0)+SUMIF(nhapdulieu!$C$15:$C$67,"N"&tonkho!B18,nhapdulieu!$P$15:$P$67)-SUMIF(nhapdulieu!$C$15:$C$67,"X"&tonkho!B18,nhapdulieu!$P$15:$P$67)) | G18: =SUMIF(nhapdulieu!$E$15:$E$241,"N"&tonkho!B18,nhapdulieu!$P$15:$P$241) -> 0 | H18: =SUMIF(nhapdulieu!$E$15:$E$241,"x"&tonkho!B18,nhapdulieu!$P$15:$P$241) -> 0 | I18: =IF(A18="","",F18+G18-H18)
A19: =IF(ROW(A8)>$A$9,"",ROW(A8)) | B19: =IF(A19="","",VLOOKUP(A19,nhapdulieu!D22:R74,9,0)) | C19: =IF(A19="","",VLOOKUP(A19,nhapdulieu!D22:S74,10,0)) | D19: =IF(A19="","",VLOOKUP(C19,danhmuc!$C$5:$G$460,2,0)) | E19: =IF(A19="","",VLOOKUP(C19,danhmuc!$C$5:$G$122,3,0)) | F19: =IF(A19="","",VLOOKUP(B19,danhmuc!$G$5:$H$200,2,0)+SUMIF(nhapdulieu!$C$15:$C$67,"N"&tonkho!B19,nhapdulieu!$P$15:$P$67)-SUMIF(nhapdulieu!$C$15:$C$67,"X"&tonkho!B19,nhapdulieu!$P$15:$P$67)) | G19: =SUMIF(nhapdulieu!$E$15:$E$241,"N"&tonkho!B19,nhapdulieu!$P$15:$P$241) -> 0 | H19: =SUMIF(nhapdulieu!$E$15:$E$241,"x"&tonkho!B19,nhapdulieu!$P$15:$P$241) -> 0 | I19: =IF(A19="","",F19+G19-H19)
A20: =IF(ROW(A9)>$A$9,"",ROW(A9)) | B20: =IF(A20="","",VLOOKUP(A20,nhapdulieu!D23:R75,9,0)) | C20: =IF(A20="","",VLOOKUP(A20,nhapdulieu!D23:S75,10,0)) | D20: =IF(A20="","",VLOOKUP(C20,danhmuc!$C$5:$G$460,2,0)) | E20: =IF(A20="","",VLOOKUP(C20,danhmuc!$C$5:$G$122,3,0)) | F20: =IF(A20="","",VLOOKUP(B20,danhmuc!$G$5:$H$200,2,0)+SUMIF(nhapdulieu!$C$15:$C$67,"N"&tonkho!B20,nhapdulieu!$P$15:$P$67)-SUMIF(nhapdulieu!$C$15:$C$67,"X"&tonkho!B20,nhapdulieu!$P$15:$P$67)) | G20: =SUMIF(nhapdulieu!$E$15:$E$241,"N"&tonkho!B20,nhapdulieu!$P$15:$P$241) -> 0 | H20: =SUMIF(nhapdulieu!$E$15:$E$241,"x"&tonkho!B20,nhapdulieu!$P$15:$P$241) -> 0 | I20: =IF(A20="","",F20+G20-H20)
A21: =IF(ROW(A10)>$A$9,"",ROW(A10)) | B21: =IF(A21="","",VLOOKUP(A21,nhapdulieu!D24:R76,9,0)) | C21: =IF(A21="","",VLOOKUP(A21,nhapdulieu!D24:S76,10,0)) | D21: =IF(A21="","",VLOOKUP(C21,danhmuc!$C$5:$G$460,2,0)) | E21: =IF(A21="","",VLOOKUP(C21,danhmuc!$C$5:$G$122,3,0)) | F21: =IF(A21="","",VLOOKUP(B21,danhmuc!$G$5:$H$200,2,0)+SUMIF(nhapdulieu!$C$15:$C$67,"N"&tonkho!B21,nhapdulieu!$P$15:$P$67)-SUMIF(nhapdulieu!$C$15:$C$67,"X"&tonkho!B21,nhapdulieu!$P$15:$P$67)) | G21: =SUMIF(nhapdulieu!$E$15:$E$241,"N"&tonkho!B21,nhapdulieu!$P$15:$P$241) -> 0 | H21: =SUMIF(nhapdulieu!$E$15:$E$241,"x"&tonkho!B21,nhapdulieu!$P$15:$P$241) -> 0 | I21: =IF(A21="","",F21+G21-H21)
A22: =IF(ROW(A11)>$A$9,"",ROW(A11)) | B22: =IF(A22="","",VLOOKUP(A22,nhapdulieu!D25:R77,9,0)) | C22: =IF(A22="","",VLOOKUP(A22,nhapdulieu!D25:S77,10,0)) | D22: =IF(A22="","",VLOOKUP(C22,danhmuc!$C$5:$G$460,2,0)) | E22: =IF(A22="","",VLOOKUP(C22,danhmuc!$C$5:$G$122,3,0)) | F22: =IF(A22="","",VLOOKUP(B22,danhmuc!$G$5:$H$200,2,0)+SUMIF(nhapdulieu!$C$15:$C$67,"N"&tonkho!B22,nhapdulieu!$P$15:$P$67)-SUMIF(nhapdulieu!$C$15:$C$67,"X"&tonkho!B22,nhapdulieu!$P$15:$P$67)) | G22: =SUMIF(nhapdulieu!$E$15:$E$241,"N"&tonkho!B22,nhapdulieu!$P$15:$P$241) -> 0 | H22: =SUMIF(nhapdulieu!$E$15:$E$241,"x"&tonkho!B22,nhapdulieu!$P$15:$P$241) -> 0 | I22: =IF(A22="","",F22+G22-H22)
A23: =IF(ROW(A12)>$A$9,"",ROW(A12)) | B23: =IF(A23="","",VLOOKUP(A23,nhapdulieu!D26:R78,9,0)) | C23: =IF(A23="","",VLOOKUP(A23,nhapdulieu!D26:S78,10,0)) | D23: =IF(A23="","",VLOOKUP(C23,danhmuc!$C$5:$G$460,2,0)) | E23: =IF(A23="","",VLOOKUP(C23,danhmuc!$C$5:$G$122,3,0)) | F23: =IF(A23="","",VLOOKUP(B23,danhmuc!$G$5:$H$200,2,0)+SUMIF(nhapdulieu!$C$15:$C$67,"N"&tonkho!B23,nhapdulieu!$P$15:$P$67)-SUMIF(nhapdulieu!$C$15:$C$67,"X"&tonkho!B23,nhapdulieu!$P$15:$P$67)) | G23: =SUMIF(nhapdulieu!$E$15:$E$241,"N"&tonkho!B23,nhapdulieu!$P$15:$P$241) -> 0 | H23: =SUMIF(nhapdulieu!$E$15:$E$241,"x"&tonkho!B23,nhapdulieu!$P$15:$P$241) -> 0 | I23: =IF(A23="","",F23+G23-H23)
... A54: =IF(ROW(A43)>$A$9,"",ROW(A43)) | B54: =IF(A54="","",VLOOKUP(A54,nhapdulieu!D57:R109,9,0)) | C54: =IF(A54="","",VLOOKUP(A54,nhapdulieu!D57:S109,10,0)) | D54: =IF(A54="","",VLOOKUP(C54,danhmuc!$C$5:$G$460,2,0)) | E54: =IF(A54="","",VLOOKUP(C54,danhmuc!$C$5:$G$122,3,0)) | F54: =IF(A54="","",VLOOKUP(B54,danhmuc!$G$5:$H$200,2,0)+SUMIF(nhapdulieu!$C$15:$C$67,"N"&tonkho!B54,nhapdulieu!$P$15:$P$67)-SUMIF(nhapdulieu!$C$15:$C$67,"X"&tonkho!B54,nhapdulieu!$P$15:$P$67)) | G54: =SUMIF(nhapdulieu!$E$15:$E$241,"N"&tonkho!B54,nhapdulieu!$P$15:$P$241) -> 0 | H54: =SUMIF(nhapdulieu!$E$15:$E$241,"x"&tonkho!B54,nhapdulieu!$P$15:$P$241) -> 0 | I54: =IF(A54="","",F54+G54-H54)

Sheet thekho
C1: Công Ty TNHH Sx TM Hoàng Phát
C2: Đông Chiêu - Tân Đông Hiệp - Dĩ An Bình Dương
C3: SDT : 0650.3.730.053 Fax: 0650.3730.053
E5: Thẻ kho
C6: Home
C8: Mã hàng | D8: Từ ngày | E8: 41641
D9: Đến Ngày | E9: 41761 | G9: DVT | H9: =VLOOKUP(D11,danhmuc!$C$5:$E$122,3,0) -> pcs
C10: =VLOOKUP(D11,danhmuc!$C$5:$G$122,5,0) -> HH-T027NL
C11: Tên Hàng | D11: chân 743 tròn | E11: Quy Cách | G11: =VLOOKUP(D11,danhmuc!$C$5:$D$122,2,0) -> 743*60*60
A14: Bảng kê chi tiết | H14: Vận Chuyển
A15: STT | B15: N/X | C15: NGÀY | D15: Số Chứng Từ | E15: Nhập | F15: Xuất | G15: Công ty | H15: Mã Chuyến | I15: Tài xế
A16: =IF(ROW(A1)>A52,"",ROW(A1)) | B16: =IF(A16="","",VLOOKUP(A16,nhapdulieu!$B$15:$R$67,14,0)) | C16: =IF(A16="","",VLOOKUP(A16,nhapdulieu!$B$15:$R$67,6,0)) | D16: =IF(A16="","",VLOOKUP(A16,nhapdulieu!$B$15:$R$67,9,0)) | E16: =IF(A16="","",IF(B16="N",VLOOKUP(A16,nhapdulieu!B15:R67,15,0),"")) | F16: =IF(A16="","",IF(B16="X",VLOOKUP(A16,nhapdulieu!C15:S67,15,0),"")) | G16: =IF(A16="","",VLOOKUP(A16,nhapdulieu!$B$15:$R$67,9,0)) | H16: =IF(A16="","",VLOOKUP(A16,nhapdulieu!$B$15:$R$67,16,0)) | I16: =IF(C16="","",VLOOKUP(C16,nhapdulieu!$B$15:$R$67,17,0))
A17: =IF(ROW(A2)>A53,"",ROW(A2)) | B17: =IF(A17="","",VLOOKUP(A17,nhapdulieu!$B$15:$R$67,14,0)) | C17: =IF(A17="","",VLOOKUP(A17,nhapdulieu!$B$15:$R$67,6,0)) | D17: =IF(A17="","",VLOOKUP(A17,nhapdulieu!$B$15:$R$67,9,0)) | E17: =IF(A17="","",IF(B17="N",VLOOKUP(A17,nhapdulieu!B16:R68,15,0),"")) | F17: =IF(A17="","",IF(B17="X",VLOOKUP(A17,nhapdulieu!C16:S68,15,0),"")) | G17: =IF(A17="","",VLOOKUP(A17,nhapdulieu!$B$15:$R$67,9,0)) | H17: =IF(A17="","",VLOOKUP(A17,nhapdulieu!$B$15:$R$67,16,0)) | I17: =IF(C17="","",VLOOKUP(C17,nhapdulieu!$B$15:$R$67,17,0))
A18: =IF(ROW(A4)>A54,"",ROW(A4)) | B18: =IF(A18="","",VLOOKUP(A18,nhapdulieu!$B$15:$R$67,14,0)) | C18: =IF(A18="","",VLOOKUP(A18,nhapdulieu!$B$15:$R$67,6,0)) | D18: =IF(A18="","",VLOOKUP(A18,nhapdulieu!$B$15:$R$67,9,0)) | E18: =IF(A18="","",IF(B18="N",VLOOKUP(A18,nhapdulieu!B17:R69,15,0),"")) | F18: =IF(A18="","",IF(B18="X",VLOOKUP(A18,nhapdulieu!C17:S69,15,0),"")) | G18: =IF(A18="","",VLOOKUP(A18,nhapdulieu!$B$15:$R$67,9,0)) | H18: =IF(A18="","",VLOOKUP(A18,nhapdulieu!$B$15:$R$67,16,0)) | I18: =IF(C18="","",VLOOKUP(C18,nhapdulieu!$B$15:$R$67,17,0))
A19: =IF(ROW(A6)>A55,"",ROW(A6)) | B19: =IF(A19="","",VLOOKUP(A19,nhapdulieu!$B$15:$R$67,14,0)) | C19: =IF(A19="","",VLOOKUP(A19,nhapdulieu!$B$15:$R$67,6,0)) | D19: =IF(A19="","",VLOOKUP(A19,nhapdulieu!$B$15:$R$67,9,0)) | E19: =IF(A19="","",IF(B19="N",VLOOKUP(A19,nhapdulieu!B18:R70,15,0),"")) | F19: =IF(A19="","",IF(B19="X",VLOOKUP(A19,nhapdulieu!C18:S70,15,0),"")) | G19: =IF(A19="","",VLOOKUP(A19,nhapdulieu!$B$15:$R$67,9,0)) | H19: =IF(A19="","",VLOOKUP(A19,nhapdulieu!$B$15:$R$67,16,0)) | I19: =IF(C19="","",VLOOKUP(C19,nhapdulieu!$B$15:$R$67,17,0))
A20: =IF(ROW(A8)>A56,"",ROW(A8)) | B20: =IF(A20="","",VLOOKUP(A20,nhapdulieu!$B$15:$R$67,14,0)) | C20: =IF(A20="","",VLOOKUP(A20,nhapdulieu!$B$15:$R$67,6,0)) | D20: =IF(A20="","",VLOOKUP(A20,nhapdulieu!$B$15:$R$67,9,0)) | E20: =IF(A20="","",IF(B20="N",VLOOKUP(A20,nhapdulieu!B19:R71,15,0),"")) | F20: =IF(A20="","",IF(B20="X",VLOOKUP(A20,nhapdulieu!C19:S71,15,0),"")) | G20: =IF(A20="","",VLOOKUP(A20,nhapdulieu!$B$15:$R$67,9,0)) | H20: =IF(A20="","",VLOOKUP(A20,nhapdulieu!$B$15:$R$67,16,0)) | I20: =IF(C20="","",VLOOKUP(C20,nhapdulieu!$B$15:$R$67,17,0))
A21: =IF(ROW(C6)>A57,"",ROW(C6)) | B21: =IF(A21="","",VLOOKUP(A21,nhapdulieu!$B$15:$R$67,14,0)) | C21: =IF(A21="","",VLOOKUP(A21,nhapdulieu!$B$15:$R$67,6,0)) | D21: =IF(A21="","",VLOOKUP(A21,nhapdulieu!$B$15:$R$67,9,0)) | E21: =IF(A21="","",IF(B21="N",VLOOKUP(A21,nhapdulieu!B20:R72,15,0),"")) | F21: =IF(A21="","",IF(B21="X",VLOOKUP(A21,nhapdulieu!C20:S72,15,0),"")) | G21: =IF(A21="","",VLOOKUP(A21,nhapdulieu!$B$15:$R$67,9,0)) | H21: =IF(A21="","",VLOOKUP(A21,nhapdulieu!$B$15:$R$67,16,0)) | I21: =IF(C21="","",VLOOKUP(C21,nhapdulieu!$B$15:$R$67,17,0))
A22: =IF(ROW(A10)>A58,"",ROW(A10)) | B22: =IF(A22="","",VLOOKUP(A22,nhapdulieu!$B$15:$R$67,14,0)) | C22: =IF(A22="","",VLOOKUP(A22,nhapdulieu!$B$15:$R$67,6,0)) | D22: =IF(A22="","",VLOOKUP(A22,nhapdulieu!$B$15:$R$67,9,0)) | E22: =IF(A22="","",IF(B22="N",VLOOKUP(A22,nhapdulieu!B21:R73,15,0),"")) | F22: =IF(A22="","",IF(B22="X",VLOOKUP(A22,nhapdulieu!C21:S73,15,0),"")) | G22: =IF(A22="","",VLOOKUP(A22,nhapdulieu!$B$15:$R$67,9,0)) | H22: =IF(A22="","",VLOOKUP(A22,nhapdulieu!$B$15:$R$67,16,0)) | I22: =IF(C22="","",VLOOKUP(C22,nhapdulieu!$B$15:$R$67,17,0))
A23: =IF(ROW(C8)>A59,"",ROW(C8)) | B23: =IF(A23="","",VLOOKUP(A23,nhapdulieu!$B$15:$R$67,14,0)) | C23: =IF(A23="","",VLOOKUP(A23,nhapdulieu!$B$15:$R$67,6,0)) | D23: =IF(A23="","",VLOOKUP(A23,nhapdulieu!$B$15:$R$67,9,0)) | E23: =IF(A23="","",IF(B23="N",VLOOKUP(A23,nhapdulieu!B22:R74,15,0),"")) | F23: =IF(A23="","",IF(B23="X",VLOOKUP(A23,nhapdulieu!C22:S74,15,0),"")) | G23: =IF(A23="","",VLOOKUP(A23,nhapdulieu!$B$15:$R$67,9,0)) | H23: =IF(A23="","",VLOOKUP(A23,nhapdulieu!$B$15:$R$67,16,0)) | I23: =IF(C23="","",VLOOKUP(C23,nhapdulieu!$B$15:$R$67,17,0))
A24: =IF(ROW(A12)>A60,"",ROW(A12)) | B24: =IF(A24="","",VLOOKUP(A24,nhapdulieu!$B$15:$R$67,14,0)) | C24: =IF(A24="","",VLOOKUP(A24,nhapdulieu!$B$15:$R$67,6,0)) | D24: =IF(A24="","",VLOOKUP(A24,nhapdulieu!$B$15:$R$67,9,0)) | E24: =IF(A24="","",IF(B24="N",VLOOKUP(A24,nhapdulieu!B23:R75,15,0),"")) | F24: =IF(A24="","",IF(B24="X",VLOOKUP(A24,nhapdulieu!C23:S75,15,0),"")) | G24: =IF(A24="","",VLOOKUP(A24,nhapdulieu!$B$15:$R$67,9,0)) | H24: =IF(A24="","",VLOOKUP(A24,nhapdulieu!$B$15:$R$67,16,0)) | I24: =IF(C24="","",VLOOKUP(C24,nhapdulieu!$B$15:$R$67,17,0))
A25: =IF(ROW(A13)>A61,"",ROW(A13)) | B25: =IF(A25="","",VLOOKUP(A25,nhapdulieu!$B$15:$R$67,14,0)) | C25: =IF(A25="","",VLOOKUP(A25,nhapdulieu!$B$15:$R$67,6,0)) | D25: =IF(A25="","",VLOOKUP(A25,nhapdulieu!$B$15:$R$67,9,0)) | E25: =IF(A25="","",IF(B25="N",VLOOKUP(A25,nhapdulieu!B24:R76,15,0),"")) | F25: =IF(A25="","",IF(B25="X",VLOOKUP(A25,nhapdulieu!C24:S76,15,0),"")) | G25: =IF(A25="","",VLOOKUP(A25,nhapdulieu!$B$15:$R$67,9,0)) | H25: =IF(A25="","",VLOOKUP(A25,nhapdulieu!$B$15:$R$67,16,0)) | I25: =IF(C25="","",VLOOKUP(C25,nhapdulieu!$B$15:$R$67,17,0))
A26: =IF(ROW(A14)>A62,"",ROW(A14)) | B26: =IF(A26="","",VLOOKUP(A26,nhapdulieu!$B$15:$R$67,14,0)) | C26: =IF(A26="","",VLOOKUP(A26,nhapdulieu!$B$15:$R$67,6,0)) | D26: =IF(A26="","",VLOOKUP(A26,nhapdulieu!$B$15:$R$67,9,0)) | E26: =IF(A26="","",IF(B26="N",VLOOKUP(A26,nhapdulieu!B25:R77,15,0),"")) | F26: =IF(A26="","",IF(B26="X",VLOOKUP(A26,nhapdulieu!C25:S77,15,0),"")) | G26: =IF(A26="","",VLOOKUP(A26,nhapdulieu!$B$15:$R$67,9,0)) | H26: =IF(A26="","",VLOOKUP(A26,nhapdulieu!$B$15:$R$67,16,0)) | I26: =IF(C26="","",VLOOKUP(C26,nhapdulieu!$B$15:$R$67,17,0))
A27: =IF(ROW(A15)>A63,"",ROW(A15)) | B27: =IF(A27="","",VLOOKUP(A27,nhapdulieu!$B$15:$R$67,14,0)) | C27: =IF(A27="","",VLOOKUP(A27,nhapdulieu!$B$15:$R$67,6,0)) | D27: =IF(A27="","",VLOOKUP(A27,nhapdulieu!$B$15:$R$67,9,0)) | E27: =IF(A27="","",IF(B27="N",VLOOKUP(A27,nhapdulieu!B26:R78,15,0),"")) | F27: =IF(A27="","",IF(B27="X",VLOOKUP(A27,nhapdulieu!C26:S78,15,0),"")) | G27: =IF(A27="","",VLOOKUP(A27,nhapdulieu!$B$15:$R$67,9,0)) | H27: =IF(A27="","",VLOOKUP(A27,nhapdulieu!$B$15:$R$67,16,0)) | I27: =IF(C27="","",VLOOKUP(C27,nhapdulieu!$B$15:$R$67,17,0))
A28: =IF(ROW(A16)>A64,"",ROW(A16)) | B28: =IF(A28="","",VLOOKUP(A28,nhapdulieu!$B$15:$R$67,14,0)) | C28: =IF(A28="","",VLOOKUP(A28,nhapdulieu!$B$15:$R$67,6,0)) | D28: =IF(A28="","",VLOOKUP(A28,nhapdulieu!$B$15:$R$67,9,0)) | E28: =IF(A28="","",IF(B28="N",VLOOKUP(A28,nhapdulieu!B27:R79,15,0),"")) | F28: =IF(A28="","",IF(B28="X",VLOOKUP(A28,nhapdulieu!C27:S79,15,0),"")) | G28: =IF(A28="","",VLOOKUP(A28,nhapdulieu!$B$15:$R$67,9,0)) | H28: =IF(A28="","",VLOOKUP(A28,nhapdulieu!$B$15:$R$67,16,0)) | I28: =IF(C28="","",VLOOKUP(C28,nhapdulieu!$B$15:$R$67,17,0))
A29: =IF(ROW(A17)>A65,"",ROW(A17)) | B29: =IF(A29="","",VLOOKUP(A29,nhapdulieu!$B$15:$R$67,14,0)) | C29: =IF(A29="","",VLOOKUP(A29,nhapdulieu!$B$15:$R$67,6,0)) | D29: =IF(A29="","",VLOOKUP(A29,nhapdulieu!$B$15:$R$67,9,0)) | E29: =IF(A29="","",IF(B29="N",VLOOKUP(A29,nhapdulieu!B28:R80,15,0),"")) | F29: =IF(A29="","",IF(B29="X",VLOOKUP(A29,nhapdulieu!C28:S80,15,0),"")) | G29: =IF(A29="","",VLOOKUP(A29,nhapdulieu!$B$15:$R$67,9,0)) | H29: =IF(A29="","",VLOOKUP(A29,nhapdulieu!$B$15:$R$67,16,0)) | I29: =IF(C29="","",VLOOKUP(C29,nhapdulieu!$B$15:$R$67,17,0))
A30: =IF(ROW(A18)>A66,"",ROW(A18)) | B30: =IF(A30="","",VLOOKUP(A30,nhapdulieu!$B$15:$R$67,14,0)) | C30: =IF(A30="","",VLOOKUP(A30,nhapdulieu!$B$15:$R$67,6,0)) | D30: =IF(A30="","",VLOOKUP(A30,nhapdulieu!$B$15:$R$67,9,0)) | E30: =IF(A30="","",IF(B30="N",VLOOKUP(A30,nhapdulieu!B29:R81,15,0),"")) | F30: =IF(A30="","",IF(B30="X",VLOOKUP(A30,nhapdulieu!C29:S81,15,0),"")) | G30: =IF(A30="","",VLOOKUP(A30,nhapdulieu!$B$15:$R$67,9,0)) | H30: =IF(A30="","",VLOOKUP(A30,nhapdulieu!$B$15:$R$67,16,0)) | I30: =IF(C30="","",VLOOKUP(C30,nhapdulieu!$B$15:$R$67,17,0))
A31: =IF(ROW(A19)>A67,"",ROW(A19)) | B31: =IF(A31="","",VLOOKUP(A31,nhapdulieu!$B$15:$R$67,14,0)) | C31: =IF(A31="","",VLOOKUP(A31,nhapdulieu!$B$15:$R$67,6,0)) | D31: =IF(A31="","",VLOOKUP(A31,nhapdulieu!$B$15:$R$67,9,0)) | E31: =IF(A31="","",IF(B31="N",VLOOKUP(A31,nhapdulieu!B30:R82,15,0),"")) | F31: =IF(A31="","",IF(B31="X",VLOOKUP(A31,nhapdulieu!C30:S82,15,0),"")) | G31: =IF(A31="","",VLOOKUP(A31,nhapdulieu!$B$15:$R$67,9,0)) | H31: =IF(A31="","",VLOOKUP(A31,nhapdulieu!$B$15:$R$67,16,0)) | I31: =IF(C31="","",VLOOKUP(C31,nhapdulieu!$B$15:$R$67,17,0))
A32: =IF(ROW(A20)>A68,"",ROW(A20)) | B32: =IF(A32="","",VLOOKUP(A32,nhapdulieu!$B$15:$R$67,14,0)) | C32: =IF(A32="","",VLOOKUP(A32,nhapdulieu!$B$15:$R$67,6,0)) | D32: =IF(A32="","",VLOOKUP(A32,nhapdulieu!$B$15:$R$67,9,0)) | E32: =IF(A32="","",IF(B32="N",VLOOKUP(A32,nhapdulieu!B31:R83,15,0),"")) | F32: =IF(A32="","",IF(B32="X",VLOOKUP(A32,nhapdulieu!C31:S83,15,0),"")) | G32: =IF(A32="","",VLOOKUP(A32,nhapdulieu!$B$15:$R$67,9,0)) | H32: =IF(A32="","",VLOOKUP(A32,nhapdulieu!$B$15:$R$67,16,0)) | I32: =IF(C32="","",VLOOKUP(C32,nhapdulieu!$B$15:$R$67,17,0))
A33: =IF(ROW(A21)>A69,"",ROW(A21)) | B33: =IF(A33="","",VLOOKUP(A33,nhapdulieu!$B$15:$R$67,14,0)) | C33: =IF(A33="","",VLOOKUP(A33,nhapdulieu!$B$15:$R$67,6,0)) | D33: =IF(A33="","",VLOOKUP(A33,nhapdulieu!$B$15:$R$67,9,0)) | E33: =IF(A33="","",IF(B33="N",VLOOKUP(A33,nhapdulieu!B32:R84,15,0),"")) | F33: =IF(A33="","",IF(B33="X",VLOOKUP(A33,nhapdulieu!C32:S84,15,0),"")) | G33: =IF(A33="","",VLOOKUP(A33,nhapdulieu!$B$15:$R$67,9,0)) | H33: =IF(A33="","",VLOOKUP(A33,nhapdulieu!$B$15:$R$67,16,0)) | I33: =IF(C33="","",VLOOKUP(C33,nhapdulieu!$B$15:$R$67,17,0))
A34: =IF(ROW(A22)>A70,"",ROW(A22)) | B34: =IF(A34="","",VLOOKUP(A34,nhapdulieu!$B$15:$R$67,14,0)) | C34: =IF(A34="","",VLOOKUP(A34,nhapdulieu!$B$15:$R$67,6,0)) | D34: =IF(A34="","",VLOOKUP(A34,nhapdulieu!$B$15:$R$67,9,0)) | E34: =IF(A34="","",IF(B34="N",VLOOKUP(A34,nhapdulieu!B33:R85,15,0),"")) | F34: =IF(A34="","",IF(B34="X",VLOOKUP(A34,nhapdulieu!C33:S85,15,0),"")) | G34: =IF(A34="","",VLOOKUP(A34,nhapdulieu!$B$15:$R$67,9,0)) | H34: =IF(A34="","",VLOOKUP(A34,nhapdulieu!$B$15:$R$67,16,0)) | I34: =IF(C34="","",VLOOKUP(C34,nhapdulieu!$B$15:$R$67,17,0))
A35: =IF(ROW(A23)>A71,"",ROW(A23)) | B35: =IF(A35="","",VLOOKUP(A35,nhapdulieu!$B$15:$R$67,14,0)) | C35: =IF(A35="","",VLOOKUP(A35,nhapdulieu!$B$15:$R$67,6,0)) | D35: =IF(A35="","",VLOOKUP(A35,nhapdulieu!$B$15:$R$67,9,0)) | E35: =IF(A35="","",IF(B35="N",VLOOKUP(A35,nhapdulieu!B34:R86,15,0),"")) | F35: =IF(A35="","",IF(B35="X",VLOOKUP(A35,nhapdulieu!C34:S86,15,0),"")) | G35: =IF(A35="","",VLOOKUP(A35,nhapdulieu!$B$15:$R$67,9,0)) | H35: =IF(A35="","",VLOOKUP(A35,nhapdulieu!$B$15:$R$67,16,0)) | I35: =IF(C35="","",VLOOKUP(C35,nhapdulieu!$B$15:$R$67,17,0))
... A51: =IF(ROW(A39)>A87,"",ROW(A39)) | B51: =IF(A51="","",VLOOKUP(A51,nhapdulieu!$B$15:$R$67,14,0)) | C51: =IF(A51="","",VLOOKUP(A51,nhapdulieu!$B$15:$R$67,6,0)) | D51: =IF(A51="","",VLOOKUP(A51,nhapdulieu!$B$15:$R$67,9,0)) | E51: =IF(A51="","",IF(B51="N",VLOOKUP(A51,nhapdulieu!B50:R102,15,0),"")) | F51: =IF(A51="","",IF(B51="X",VLOOKUP(A51,nhapdulieu!C50:S102,15,0),"")) | G51: =IF(A51="","",VLOOKUP(A51,nhapdulieu!$B$15:$R$67,9,0)) | H51: =IF(A51="","",VLOOKUP(A51,nhapdulieu!$B$15:$R$67,16,0)) | I51: =IF(C51="","",VLOOKUP(C51,nhapdulieu!$B$15:$R$67,17,0))
A52: =MAX(nhapdulieu!B15:B67) -> 0

Sheet danhmuc
A1: Home
B3: Bổ Sung Danh Mục | G3: Ma HH 02 | H3: Tồn Dk
B4: Mã HH | C4: Tên chi tiết | D4: quy cách | E4: DVT
B5: HH-T06B 743*60 | C5: chân bàn caphe | D5: 743*60*60 | E5: pcs | G5: =IF(B5="","",B5) -> HH-T06B 743*60 | H5: 2900
B6: HH-#2217T BÀN HS wh | E6: pcs | G6: =IF(B6="","",B6) -> HH-#2217T BÀN HS wh | H6: 2
B7: GHE HS | C7: CHÂN GHẾ HS | E7: PCS | G7: =IF(B7="","",B7) -> GHE HS | H7: 6
B8: BÀN HS wh | C8: CHÂN BÀN HS wh | E8: pcs | G8: =IF(B8="","",B8) -> BÀN HS wh | H8: 2
B9: HH-#2217T M/1 | C9: MẶT BÀN HS wh | E9: pcs | G9: =IF(B9="","",B9) -> HH-#2217T M/1 | H9: 0
B10: HH-#2217T G/2 | C10: Giá cuộn giấy BÀN HS wh | E10: pcs | G10: =IF(B10="","",B10) -> HH-#2217T G/2 | H10: 0
B11: HH-#2217T N/3 | C11: Nẹp cuộn giấy BÀN HS wh | E11: pcs | G11: =IF(B11="","",B11) -> HH-#2217T N/3 | H11: 0
B12: HH-#2217T BÀN HS NA | C12: CHÂN BÀN HS NA | E12: pcs | G12: =IF(B12="","",B12) -> HH-#2217T BÀN HS NA | H12: 0
B13: HH-#2217T M | C13: MẶT BÀN HS NA | E13: pcs | G13: =IF(B13="","",B13) -> HH-#2217T M | H13: 0
B14: HH-#2217T G | C14: Giá cuộn giấy BÀN HS NA | E14: pcs | G14: =IF(B14="","",B14) -> HH-#2217T G | H14: 0
B15: HH-#2217T N | C15: Nẹp cuộn giấy BÀN HS NA | E15: pcs | G15: =IF(B15="","",B15) -> HH-#2217T N | H15: 0
B16: BO60*20 | C16: CON BỌ BÀN ĂN | D16: 60*20*60 | E16: pcs | G16: =IF(B16="","",B16) -> BO60*20 | H16: 0
B17: BO90*20 | C17: Bọ tam giác 90*20*70 | D17: 90*20*70 | E17: pcs | G17: =IF(B17="","",B17) -> BO90*20 | H17: 0
B18: HHO-OT034/ET | C18: Chân bàn 540*45 | D18: 540*45*45 | E18: pcs | G18: =IF(B18="","",B18) -> HHO-OT034/ET | H18: 0
B19: HH-OT034 CT | C19: Chân bàn 438*45 | D19: 438*45*45 | E19: pcs | G19: =IF(B19="","",B19) -> HH-OT034 CT
B20: HH-0T034CT | C20: Thanh thặng ván đáy | D20: 1050*30*20 | E20: pcs | G20: =IF(B20="","",B20) -> HH-0T034CT | H20: 0
B21: HH-T027NL | C21: chân 743 tròn | D21: 743*60*60 | E21: pcs | G21: =IF(B21="","",B21) -> HH-T027NL | H21: 5
B22: HH-C048/1 | C22: Lưng ghế c048 | E22: pcs | G22: =IF(B22="","",B22) -> HH-C048/1 | H22: 7
B23: HH-C048/2 | C23: Khung ghế c048 | E23: pcs | G23: =IF(B23="","",B23) -> HH-C048/2 | H23: 8
B24: HH-C048/3 | C24: Chân ghế c048 | E24: pcs | G24: =IF(B24="","",B24) -> HH-C048/3 | H24: 8
B25: HH-T06B | C25: chân bàn café xéo 743 | E25: pcs | G25: =IF(B25="","",B25) -> HH-T06B | H25: 16
B26: HH-T027NL | C26: Bọ Bàn ăn 45 vuông | D26: 45*45*20 | E26: pcs | G26: =IF(B26="","",B26) -> HH-T027NL | H26: 5
B27: TVN 455*70 | C27: CHÂN BÀN 455 | D27: 455*70*70 | E27: pcs | G27: =IF(B27="","",B27) -> TVN 455*70 | H27: 0
B28: TVN 580*65 | C28: CHÂN BÀN 580 | D28: 580*65*65 | E28: pcs | G28: =IF(B28="","",B28) -> TVN 580*65 | H28: 4
B29: TVN 735*70 | C29: CHÂN BÀN 735 | D29: 735*70*70 | E29: pcs | G29: =IF(B29="","",B29) -> TVN 735*70 | H29: 4
B30: maychanham | C30: Máy chà nhám tròn | E30: cái | G30: =IF(B30="","",B30) -> maychanham | H30: 4
B31: maysac | C31: máy sạc | E31: cái | G31: =IF(B31="","",B31) -> maysac | H31: 10
B32: Mkhoan100*12 | C32: Mũi Khoan ren m9*100*12 | E32: cái | G32: =IF(B32="","",B32) -> Mkhoan100*12 | H32: 10
B33: Mkhoan150*12 | C33: Mũi Khoan ren m9*150*12 | E33: cái | G33: =IF(B33="","",B33) -> Mkhoan150*12 | H33: 3
B34: dinhf1 | C34: đinh 10f | E34: hộp | G34: =IF(B34="","",B34) -> dinhf1 | H34: 3
B35: dinhf15 | C35: đinh 15f | E35: hộp | G35: =IF(B35="","",B35) -> dinhf15 | H35: 0
B36: dinhf20 | C36: đinh 20f | E36: hộp | G36: =IF(B36="","",B36) -> dinhf20 | H36: 25
B37: dinhf25 | C37: đinh 25f | E37: hộp | G37: =IF(B37="","",B37) -> dinhf25 | H37: 8
B38: dinhf30 | C38: đinh 30f | E38: hộp | G38: =IF(B38="","",B38) -> dinhf30 | H38: 24
B39: dinhf35 | C39: đinh 35f | E39: hộp | G39: =IF(B39="","",B39) -> dinhf35 | H39: 28
B40: dinhf40 | C40: đinh 40f | E40: hộp | G40: =IF(B40="","",B40) -> dinhf40
B41: dinhf45 | C41: đinh 45f | E41: hộp | G41: =IF(B41="","",B41) -> dinhf45 | H41: 5
...

Sheet in an
B1: Công Ty TNHH Sx TM Hoàng Phát
B2: Đông Chiêu - Tân Đông Hiệp - Dĩ An Bình Dương | I2: home | J2: =nhapdulieu!A68 -> 1
B3: SDT : 0650.3.730.053 Fax: 0650.3730.053
E5: =IF(VLOOKUP(G6,nhapdulieu!$J$15:$R$67,6,0)="X","Phiếu Xuất",IF(VLOOKUP(G6,nhapdulieu!$J$15:$R$67,6,0)="N","Phiếu Nhập")) -> Phiếu Xuất
F6: Số Phiếu: | G6: X001
F7: Số xe: | G7: =VLOOKUP(B11,nhapdulieu!$A$15:$R$67,18,0) -> a THIÊN
B9: STT | C9: Mã HH | D9: Tên Hàng Hóa | E9: Quy Cách | F9: DVT | G9: Số lượng | H9: Đơn Hàng
F10: =thekho!H9 -> pcs | G10: Thực Xuất
B11: =IF(ROW(A1)>$J$2," ",ROW(A1)) -> 1 | C11: =IF(B11="","",VLOOKUP(B11,nhapdulieu!$A$15:$R$67,12,0)) -> BE-PKBOPN | D11: =IF(B11="","",VLOOKUP(B11,nhapdulieu!$A$15:$R$67,13,0)) -> CHÂN BÀN GỖ THÔNG. | E11: =VLOOKUP(B11,nhapdulieu!$A$15:$R$67,14,0) -> 65*65*440 | G11: =IF(B11="","",VLOOKUP(B11,nhapdulieu!$A$15:$R$67,16,0)) -> 144
B12: =IF(ROW(A3)>$J$2," ",ROW(A3))
B13: =IF(ROW(A13)>$J$2," ",ROW(A13))
B14: =IF(ROW(A5)>$J$2," ",ROW(A5))
B15: =IF(ROW(A6)>$J$2," ",ROW(A6))
B16: =IF(ROW(A7)>$J$2," ",ROW(A7))
B17: =IF(ROW(A9)>$J$2," ",ROW(A9))
B18: =IF(ROW(A10)>$J$2," ",ROW(A10))
B19: =IF(ROW(A11)>$J$2," ",ROW(A11))
B20: =IF(ROW(A12)>$J$2," ",ROW(A12))
B21: =IF(ROW(A13)>$J$2," ",ROW(A13))
G22: =IF(B22="","",VLOOKUP(B22,nhapdulieu!$A$15:$R$67,16,0))
G23: =IF(B23="","",VLOOKUP(B23,nhapdulieu!$A$15:$R$67,16,0))
G24: =IF(B24="","",VLOOKUP(B24,nhapdulieu!$A$15:$R$67,16,0))
B28: Ghi chú:…………………………………………………………………………./.
D30: Bình dương, Ngày | E30: =VLOOKUP(B11,nhapdulieu!$A$15:$R$67,7,0) -> 3 | F30: Tháng | G30: =VLOOKUP(B11,nhapdulieu!$A$15:$R$67,8,0) -> 11 | H30: =VLOOKUP(B11,nhapdulieu!$A$15:$R$67,9,0) -> 2014
B32: Người Lập Phiếu | E32: Người Nhận Hàng | G32: Thủ kho
B36: Lê. T. Mai
